Workbook
Name _2002보상__F4: #REF!

Sheet 토지조서
B1: 토 지 편 입조 서
B2: □ 공 사 명 : 뒷내천 정비공사
B3: 일련 | C3: 토지소재지 | E3: 지번 | G3: 지목 | I3: 면적(㎡) | K3: 소 유 자 | M3: 비고
B4: 번호 | C4: 읍면 | D4: 리 | E4: 공부 (분할전) | F4: 분할 (분할후) | G4: 공부 | H4: 현실 | I4: 당초 (분할전) | J4: 편입 (분할후) | K4: 주 소 | L4: 성명
B5: 1 | C5: 용문 | D5: 상금곡리 | E5: 251 | F5: 251-1 | G5: 답 | H5: 답 | I5: 337 | J5: 149 | K5: 경상북도 예천군 예천읍 대심리 425-1 로얄맨션 다-301 | L5: 박희도
B6: 2 | C6: 용문 | D6: 상금곡리 | E6: 253 | F6: 253-3 | G6: 답 | H6: 답 | I6: 1615 | J6: 357 | K6: 경상북도 예천군 용문면 상금곡리 500 | L6: 박노경
B7: 3 | C7: 용문 | D7: 상금곡리 | E7: 310-2 | F7: 310-5 | G7: 답 | H7: 답 | I7: 1567 | J7: 374 | K7: 경상북도 예천군 용문면 상금곡리 505 | L7: 강흥석
B8: 4 | C8: 용문 | D8: 상금곡리 | E8: 316-3 | F8: 316-3 | G8: 답 | H8: 답 | I8: 269 | J8: 269 | K8: 경상북도 예천군 용문면 상금곡리 334 | L8: 박진대 | M8: 전필
B9: 5 | C9: 용문 | D9: 상금곡리 | E9: 310-4 | F9: 310-6 | G9: 답 | H9: 답 | I9: 879 | J9: 381 | K9: 경상북도 예천군 용문면 상금곡리 500 | L9: 박노경
B10: 6 | C10: 용문 | D10: 상금곡리 | E10: 312-5 | F10: 312-13 | G10: 답 | H10: 답 | I10: 4377 | J10: 128 | K10: 경상북도 예천군 용문면 상금곡리 500 | L10: 금곡서원
B11: 7 | C11: 용문 | D11: 상금곡리 | E11: 316-16 | F11: 316-16 | G11: 도 | H11: 도 | I11: 248 | J11: 248 | K11: 경상북도 예천군 용문면 상금곡리 339 | L11: 김응환 | M11: 전필
B12: 8 | C12: 용문 | D12: 상금곡리 | E12: 312-2 | F12: 312-11 | G12: 답 | H12: 답 | I12: 5051 | J12: 462 | K12: 경상북도 예천군 용문면 상금곡리 528 | L12: 변용호 외 2인
B13: " | C13: 용문 | D13: 상금곡리 | E13: " | F13: 312-12 | G13: 답 | H13: 답 | I13: " | J13: 78 | K13: " | L13: "
B14: 9 | C14: 용문 | D14: 상금곡리 | E14: 317-3 | F14: 317-3 | G14: 답 | H14: 답 | I14: 248 | J14: 248 | K14: 경상북도 예천군 용문면 상금곡리 317-3 | L14: 변해건 | M14: 전필
B15: 10 | C15: 용문 | D15: 상금곡리 | E15: 318-3 | F15: 318-3 | G15: 답 | H15: 답 | I15: 215 | J15: 215 | K15: 경상북도 예천군 용문면 상금곡리 339 | L15: 박동수 | M15: 전필
B16: 11 | C16: 용문 | D16: 상금곡리 | E16: 315 | F16: 315-2 | G16: 답 | H16: 답 | I16: 2714 | J16: 660 | K16: 서울특별시 강남구 일원동 719 푸른마을아파트 111-1405 | L16: 박지식
B17: 12 | C17: 용문 | D17: 상금곡리 | E17: 314 | F17: 314-1 | G17: 답 | H17: 답 | I17: 341 | J17: 33 | K17: 서울특별시 강남구 일원동 719 푸른마을아파트 111-1405 | L17: 박지식
B18: 13 | C18: 용문 | D18: 상금곡리 | E18: 324-1 | F18: 324-5 | G18: 답 | H18: 답 | I18: 739 | J18: 143 | K18: 경상북도 예천군 용문면 상금곡리 343 | L18: 박노탁
B19: 14 | C19: 용문 | D19: 상금곡리 | E19: 323-6 | F19: 323-15 | G19: 답 | H19: 답 | I19: 360 | J19: 61 | K19: 경상북도 예천군 용문면 상금곡리 635 | L19: 박원식
B20: 15 | C20: 용문 | D20: 상금곡리 | E20: 323-4 | F20: 323-14 | G20: 답 | H20: 답 | I20: 1603 | J20: 57 | K20: 경상북도 예천군 용문면 상금곡리 343 | L20: 박노탁
B21: 16 | C21: 용문 | D21: 상금곡리 | E21: 316-8 | F21: 316-22 | G21: 답 | H21: 답 | I21: 1951 | J21: 67 | K21: 경상북도 예천군 용문면 상금곡리 337 | L21: 김채환
B22: 17 | C22: 용문 | D22: 상금곡리 | E22: 311-1 | F22: 311-4 | G22: 답 | H22: 답 | I22: 2638 | J22: 11 | K22: 경상북도 예천군 용문면 상금곡리 342 | L22: 함양박씨문중
C23: 총 계 | E23: 17 | F23: 건 | J23: =SUM(J5:J22) -> 3941

Sheet 지장물조서
B1: 지장물 편입조서
B2: 뒷내천 정비공사 | M2: =토지조서!#REF! -> #REF!
B3: 일련 | C3: 토지소재지 | E3: 지번 | F3: 지장물명 | G3: 규격 및 구조 | H3: 단위 | I3: 수량 | J3: 감정평가액 | L3: 평 균 단 가 (원) | M3: 사정액 (원) | N3: 소 유 자 | P3: 비고
B4: 번호 | C4: 읍면 | D4: 리 | J4: 삼일 | K4: 태평양 | N4: 주 소 | O4: 성명
B5: 1 | C5: 용문 | D5: 상금곡리 | E5: 253 | F5: 호도나무 | G5: 7년생 | H5: 주 | I5: 2 | J5: 40000 | K5: 38000 | L5: =(J5+K5)/2 -> 39000 | M5: =L5*I5 -> 78000 | N5: =토지조서!K6 -> 경상북도 예천군 용문면 상금곡리 500 | O5: =토지조서!L6 -> 박노경
B6: 2 | C6: 용문 | D6: 상금곡리 | E6: 310-2 | F6: 제피나무 | G6: 5년생 | H6: 주 | I6: 13 | J6: 10000 | K6: 10000 | L6: =(J6+K6)/2 -> 10000 | M6: =L6*I6 -> 130000 | N6: =토지조서!K7 -> 경상북도 예천군 용문면 상금곡리 505 | O6: =토지조서!L7 -> 강흥석
C7: " | D7: " | E7: " | F7: 두릅나무 | H7: 식 | I7: 1 | J7: 50000 | K7: 50000 | L7: =(J7+K7)/2 -> 50000 | M7: =L7*I7 -> 50000 | N7: " | O7: "
B8: 3 | C8: 용문 | D8: 상금곡리 | E8: 311-3 | F8: 감나무 | G8: 5년생 | H8: 주 | I8: 2 | J8: 40000 | K8: 42000 | L8: =(J8+K8)/2 -> 41000 | M8: =L8*I8 -> 82000 | N8: 경북 예천군 용문면 상금곡리 342 | O8: 함양박씨문중
C9: " | D9: " | E9: " | F9: 복숭아나무 | G9: 5년생 | H9: 주 | I9: 1 | J9: 40000 | K9: 42000 | L9: =(J9+K9)/2 -> 41000 | M9: =L9*I9 -> 41000 | N9: " | O9: "
C10: " | D10: " | E10: " | F10: 매실나무 | G10: 5년생 | H10: 주 | I10: 1 | J10: 40000 | K10: 42000 | L10: =(J10+K10)/2 -> 41000 | M10: =L10*I10 -> 41000 | N10: " | O10: "
C11: " | D11: " | E11: " | F11: 호도나무 | G11: 5년생 | H11: 주 | I11: 1 | J11: 20000 | K11: 20000 | L11: =(J11+K11)/2 -> 20000 | M11: =L11*I11 -> 20000 | N11: " | O11: "
B12: 4 | C12: 용문 | D12: 상금곡리 | E12: 323-4 | F12: 복숭아나무 | G12: 5년생 | H12: 주 | I12: 1 | J12: 40000 | K12: 42000 | L12: =(J12+K12)/2 -> 41000 | M12: =L12*I12 -> 41000 | N12: =토지조서!K20 -> 경상북도 예천군 용문면 상금곡리 343 | O12: =토지조서!L20 -> 박노탁
C13: " | D13: " | E13: " | F13: 대추나무 | G13: 5년생 | H13: 주 | I13: 1 | J13: 20000 | K13: 20000 | L13: =(J13+K13)/2 -> 20000 | M13: =L13*I13 -> 20000 | N13: " | O13: "
B16: 합계 | F16: 4 | G16: 건 | M16: =SUM(M5:M15) -> 503000
