Workbook

Sheet 규정 본청
A1: 【별표2】 <개정전>
A2: 예천군 본청 정원표(규정 제2조와 관련)
A4: 기관별 직급별 | B4: 총계 | C4: 기획 감사 실 | D4: 주민 생활 지원 과 | E4: 총무과 | F4: 재무과 | G4: 새마을경제과 | H4: 종합 민원 과 | I4: 문화 관광 과 | J4: 환경 관리 과 | K4: 농정과 | L4: 산림 축산 과 | M4: 건설 과 | N4: 재난 관리 과 | O4: 정책 기획 단 | P4: 도청이전지원단
A5: 총 계 | B5: =B6+B8+B125+B135+B128+B132 -> 276 | C5: =C6+C8+C125+C135+C128+C132 -> 19 | D5: =D6+D8+D125+D135+D128+D132 -> 24 | E5: =E6+E8+E125+E135+E128+E132 -> 28 | F5: =F6+F8+F125+F135+F128+F132 -> 29 | G5: =G6+G8+G125+G135+G128+G132 -> 20 | H5: =H6+H8+H125+H135+H128+H132 -> 25 | I5: =I6+I8+I125+I135+I128+I132 -> 16 | ... P5: =P6+P8+P125+P135+P128+P132 -> 10
A6: 정무직 계 | B6: =B7 -> 1 | C6: =C7 -> 0 | D6: =D7 -> 0 | E6: =E7 -> 1 | F6: =F7 -> 0 | G6: =G7 -> 0 | H6: =H7 -> 0 | I6: =I7 -> 0 | ... P6: =P7 -> 0
A7: 정무직 | B7: =SUM(C7:P7) -> 1 | E7: 1
A8: 일반직 계 | B8: =SUM(C8:P8) -> 245 | C8: =C9+C11+C15+C25+C63+C113+C90 -> 16 | D8: =D9+D11+D15+D25+D63+D113+D90 -> 23 | E8: =E9+E11+E15+E25+E63+E113+E90 -> 20 | F8: =F9+F11+F15+F25+F63+F113+F90 -> 24 | G8: =G9+G11+G15+G25+G63+G113+G90 -> 19 | H8: =H9+H11+H15+H25+H63+H113+H90 -> 24 | I8: =I9+I11+I15+I25+I63+I113+I90 -> 12 | J8: =J9+J11+J15+J25+J63+J113+J90 -> 16 | ... P8: =P9+P11+P15+P25+P63+P113+P90 -> 10
A9: 4급 소계 | B9: =B10 -> 1 | C9: =C10 -> 1 | D9: =D10 -> 0 | E9: =E10 -> 0 | F9: =F10 -> 0 | G9: =G10 -> 0 | H9: =H10 -> 0 | I9: =I10 -> 0 | ... P9: =P10 -> 0
A10: 4급 | B10: =SUM(C10:P10) -> 1 | C10: 1
A11: 4급 내지 5급 소계 | B11: =SUM(B12:B14) -> 2 | C11: =SUM(C12:C14) -> 1 | D11: =SUM(D12:D14) -> 1 | E11: =SUM(E12:E14) -> 0 | F11: =SUM(F12:F14) -> 0 | G11: =SUM(G12:G14) -> 0 | H11: =SUM(H12:H14) -> 0 | I11: =SUM(I12:I14) -> 0 | ... P11: =SUM(P12:P14) -> 0
A12: 행정4급 내지 행정5급 | B12: =SUM(C12:P12) -> 1 | C12: 1
A13: 행정4급 내지 행정·복지5급 | B13: =SUM(C13:H13) -> 1 | D13: 1
A14: 기술4급·보건5급·간호5급 | B14: =SUM(C14:P14) -> 0
A15: 5급 소계 | B15: =SUM(B16:B24) -> 12 | C15: =SUM(C16:C24) -> 0 | D15: =SUM(D16:D24) -> 0 | E15: =SUM(E16:E24) -> 1 | F15: =SUM(F16:F24) -> 1 | G15: =SUM(G16:G24) -> 1 | H15: =SUM(H16:H24) -> 1 | I15: =SUM(I16:I24) -> 1 | ... P15: =SUM(P16:P24) -> 1
A16: 행정 | B16: =SUM(C16:P16) -> 6 | E16: 1 | F16: 1 | G16: 1 | I16: 1 | O16: 1 | P16: 1
A17: 시설 | B17: =SUM(C17:P17) -> 1 | M17: 1
A18: 행정·사회복지 | B18: =SUM(C18:P18) -> 0
A19: 행정·농업 | B19: =SUM(C19:P19) -> 1 | K19: 1
A20: 행정·시설 | B20: =SUM(C20:P20) -> 2 | H20: 1 | N20: 1
A21: 행정·농업연구관 | B21: =SUM(C21:P21) -> 0
A22: 행정·농업·녹지 | B22: =SUM(C22:P22) -> 1 | L22: 1
A23: 행정·농업·시설 | B23: =SUM(C23:P23) -> 0
A24: 행정·환경·시설 | B24: =SUM(C24:P24) -> 1 | J24: 1
A25: 6급 소계 | B25: =SUM(C25:P25) -> 67 | C25: =SUM(C26:C62) -> 5 | D25: =SUM(D26:D62) -> 5 | E25: =SUM(E26:E62) -> 6 | F25: =SUM(F26:F62) -> 6 | G25: =SUM(G26:G62) -> 4 | H25: =SUM(H26:H62) -> 6 | I25: =SUM(I26:I62) -> 4 | J25: =SUM(J26:J62) -> 5 | ... P25: =SUM(P26:P62) -> 2
A26: 행정 | B26: =SUM(C26:P26) -> 25 | C26: 5 | D26: 3 | E26: 4 | F26: 1 | G26: 3 | H26: 1 | I26: 3 | K26: 0 | M26: 1 | N26: 1 | O26: 2 | P26: 1
A27: 세무 | B27: =SUM(C27:P27) -> 2 | F27: 2
A28: 사회복지 | B28: =SUM(C28:P28) -> 0 | D28: 0
A29: 전산 | B29: =SUM(C29:P29) -> 0
A30: 농업 | B30: =SUM(C30:P30) -> 3 | K30: 3
A31: 녹지 | B31: =SUM(C31:P31) -> 2 | L31: 2
A32: 시설 | B32: =SUM(C32:P32) -> 5 | H32: 1 | M32: 2 | N32: 1 | P32: 1
A33: 수의 | B33: =SUM(C33:P33) -> 0
A34: 보건 | B34: =SUM(C34:P34) -> 0
A35: 보건진료 | B35: =SUM(C35:P35) -> 0
A36: 행정·세무 | B36: =SUM(C36:P36) -> 2 | F36: 2
A37: 행정·사회복지 | B37: =SUM(C37:P37) -> 2 | D37: 2
A38: 행정·전산 | B38: =SUM(C38:P38) -> 1 | E38: 1
A39: 행정·농업 | B39: =SUM(C39:P39) -> 3 | K39: 3
A40: 행정·녹지 | B40: =SUM(C40:P40) -> 0
A41: 행정·공업 | B41: =SUM(C41:P41) -> 1 | G41: 1
A42: 행정·환경 | B42: =SUM(C42:P42) -> 3 | J42: 3
A43: 행정·시설 | B43: =SUM(C43:P43) -> 11 | H43: 4 | I43: 1 | J43: 2 | M43: 2 | N43: 2
A44: 행정·보건 | B44: =SUM(C44:P44) -> 0
A45: 행정·통신 | B45: =SUM(C45:P45) -> 0
A46: 전산·통신 | B46: =SUM(C46:P46) -> 1 | E46: 1
A47: 농업·수의 | B47: =SUM(C47:P47) -> 3 | L47: 3
A48: 보건·환경 | B48: =SUM(C48:P48) -> 0
A49: 행정·세무·전산 | B49: =SUM(C49:P49) -> 0
A50: 행정·세무·농업 | B50: =SUM(C50:P50) -> 1 | K50: 1
A51: 행정·세무·시설 | B51: =SUM(C51:P51) -> 1 | F51: 1
A52: 행정·복지·환경 | B52: =SUM(C52:P52) -> 0
A53: 행정·세무·복지 | B53: =SUM(C53:P53) -> 0
A54: 행정·복지·농업 | B54: =SUM(C54:P54) -> 0
A55: 행정·농업·수의 | B55: =SUM(C55:P55) -> 0
A56: 행정·농업·녹지 | B56: =SUM(C56:P56) -> 1 | L56: 1
A57: 행정·농업·시설 | B57: =SUM(C57:P57) -> 0
A58: 보건·간호·의료기술 | B58: =SUM(C58:P58) -> 0
A59: 보건·간호·약무 | B59: =SUM(C59:P59) -> 0
A60: 행정·복지·농업·보건 | B60: =SUM(C60:N60) -> 0
A61: 행정·복지·농업·간호 | B61: =SUM(C61:N61) -> 0
A62: 행정·세무·복지·농업 | B62: =SUM(C62:N62) -> 0
A63: 7급 소계 | B63: =SUM(C63:P63) -> 90 | C63: =SUM(C64:C89) -> 6 | D63: =SUM(D64:D89) -> 9 | E63: =SUM(E64:E89) -> 8 | F63: =SUM(F64:F89) -> 10 | G63: =SUM(G64:G89) -> 7 | H63: =SUM(H64:H89) -> 10 | I63: =SUM(I64:I89) -> 5 | J63: =SUM(J64:J89) -> 5 | ... P63: =SUM(P64:P89) -> 3
A64: 행정 | B64: =SUM(C64:P64) -> 32 | C64: 5 | D64: 2 | E64: 5 | F64: 2 | G64: 4 | H64: 3 | I64: 3 | J64: 0 | M64: 1 | N64: 2 | O64: 3 | P64: 2
A65: 세무 | B65: =SUM(C65:P65) -> 4 | F65: 4
A66: 사회복지 | B66: =SUM(C66:P66) -> 4 | D66: 4
A67: 전산 | B67: =SUM(C67:P67) -> 2 | E67: 2
A68: 공업 | B68: =SUM(C68:P68) -> 1 | M68: 1
A69: 농업 | B69: =SUM(C69:P69) -> 5 | K69: 4 | L69: 1
A70: 녹지 | B70: =SUM(C70:P70) -> 2 | L70: 2
A71: 수의 | B71: =SUM(C71:P71) -> 1 | L71: 1
A72: 보건 | B72: =SUM(C72:P72) -> 0
A73: 보건진료 | B73: =SUM(C73:P73) -> 0
A74: 의료기술 | B74: =SUM(C74:P74) -> 0
A75: 시설 | B75: =SUM(C75:P75) -> 17 | F75: 1 | G75: 1 | H75: 6 | I75: 1 | J75: 2 | M75: 3 | N75: 2 | P75: 1
A76: 행정·세무 | B76: =SUM(C76:P76) -> 2 | F76: 2
A77: 행정·전산 | B77: =SUM(C77:P77) -> 1 | C77: 1
A78: 행정·사회복지 | B78: =SUM(C78:P78) -> 4 | D78: 3 | G78: 1
A79: 행정·농업 | B79: =SUM(C79:P79) -> 4 | K79: 4
A80: 농업·수의 | B80: =SUM(C80:N80) -> 1 | L80: 1
A81: 환경·공업 | B81: =SUM(C81:P81) -> 2 | J81: 2
A82: 전산·통신 | B82: =SUM(C82:P82) -> 1 | E82: 1
A83: 보건·간호 | B83: =SUM(C83:P83) -> 0
A84: 행정·시설 | B84: =SUM(C84:P84) -> 5 | F84: 1 | H84: 1 | I84: 1 | M84: 1 | N84: 1
A85: 행정·환경 | B85: =SUM(C85:P85) -> 1 | J85: 1
A86: 행정·환경·공업 | B86: =SUM(C86:P86) -> 0
A87: 보건·의료기술 | B87: =SUM(C87:P87) -> 0
A88: 행정·공업 | B88: =SUM(C88:P88) -> 1 | G88: 1
A89: 행정·세무·농업 | B89: =SUM(C89:P89) -> 0
A90: 8급 소계 | B90: =SUM(C90:P90) -> 58 | C90: =SUM(C91:C112) -> 3 | D90: =SUM(D91:D112) -> 6 | E90: =SUM(E91:E112) -> 5 | F90: =SUM(F91:F112) -> 4 | G90: =SUM(G91:G112) -> 6 | H90: =SUM(H91:H112) -> 7 | I90: =SUM(I91:I112) -> 1 | J90: =SUM(J91:J112) -> 4 | ... P90: =SUM(P91:P112) -> 2
A91: 행정 | B91: =SUM(C91:P91) -> 19 | C91: 2 | E91: 4 | F91: 1 | G91: 5 | H91: 3 | K91: 1 | N91: 1 | O91: 1 | P91: 1
A92: 세무 | B92: =SUM(C92:P92) -> 1 | F92: 1
A93: 사회복지 | B93: =SUM(C93:P93) -> 5 | D93: 5
A94: 공업 | B94: =SUM(C94:P94) -> 0
A95: 농업 | B95: =SUM(C95:P95) -> 3 | K95: 2 | L95: 1
A96: 녹지 | B96: =SUM(C96:P96) -> 3 | L96: 3
A97: 보건 | B97: =SUM(C97:P97) -> 0
A98: 보건진료 | B98: =SUM(C98:P98) -> 0
A99: 환경 | B99: =SUM(C99:P99) -> 2 | J99: 2
A100: 시설 | B100: =SUM(C100:P100) -> 13 | H100: 3 | J100: 1 | M100: 6 | N100: 2 | P100: 1
A101: 전산 | B101: =SUM(C101:P101) -> 1 | E101: 1
...

Sheet 규정 의회
A1: 【별표3】
A2: 예천군 의회 정원표(규정 제2조와 관련)
A4: 기관별 직급별 | B4: 총계 | C4: 의회 | D4: 비 고
A5: 총 계 | B5: =B6+B8+B125+B135+B128+B132 -> 10 | C5: =C6+C8+C125+C135+C128+C132 -> 10
A6: 정무직 계 | B6: =B7 -> 0 | C6: =C7 -> 0
A7: 정무직 | B7: =SUM(C7:C7) -> 0
A8: 일반직 계 | B8: =B9+B11+B15+B25+B63+B90+B113 -> 7 | C8: =C9+C11+C15+C25+C63+C113+C90 -> 7
A9: 4급 소계 | B9: =B10 -> 0 | C9: =C10 -> 0
A10: 4급 | B10: =SUM(C10:C10) -> 0
A11: 4급 내지 5급 소계 | B11: =SUM(B12:B14) -> 0 | C11: =SUM(C12:C14) -> 0
A12: 행정4급 내지 행정5급 | B12: =SUM(C12:C12) -> 0
A13: 행정4급 내지 행정·복지5급 | B13: =SUM(C13:D13) -> 0
A14: 기술4급·보건5급·간호5급 | B14: =SUM(C14:C14) -> 0
A15: 5급 소계 | B15: =SUM(B16:B24) -> 3 | C15: =SUM(C16:C24) -> 3
A16: 행정 | B16: =SUM(C16:C16) -> 3 | C16: 3
A17: 시설 | B17: =SUM(C17:C17) -> 0
A18: 행정·사회복지 | B18: =SUM(C18:C18) -> 0
A19: 행정·농업 | B19: =SUM(C19:C19) -> 0
A20: 행정·시설 | B20: =SUM(C20:C20) -> 0
A21: 행정·농업연구관 | B21: =SUM(C21:C21) -> 0
A22: 행정·농업·녹지 | B22: =SUM(C22:C22) -> 0
A23: 행정·농업·시설 | B23: =SUM(C23:C23) -> 0
A24: 행정·환경·시설 | B24: =SUM(C24:C24) -> 0
A25: 6급 소계 | B25: =SUM(C25:C25) -> 1 | C25: =SUM(C26:C62) -> 1
A26: 행정 | B26: =SUM(C26:C26) -> 1 | C26: 1
A27: 세무 | B27: =SUM(C27:C27) -> 0
A28: 사회복지 | B28: =SUM(C28:C28) -> 0
A29: 전산 | B29: =SUM(C29:C29) -> 0
A30: 농업 | B30: =SUM(C30:C30) -> 0
A31: 녹지 | B31: =SUM(C31:C31) -> 0
A32: 시설 | B32: =SUM(C32:C32) -> 0
A33: 수의 | B33: =SUM(C33:C33) -> 0
A34: 보건 | B34: =SUM(C34:C34) -> 0
A35: 보건진료 | B35: =SUM(C35:C35) -> 0
A36: 행정·세무 | B36: =SUM(C36:C36) -> 0
A37: 행정·사회복지 | B37: =SUM(C37:C37) -> 0
A38: 행정·전산 | B38: =SUM(C38:C38) -> 0
... A59: 보건·간호·약무 | B59: =SUM(C59:C59) -> 0
A60: 행정·복지·농업·보건 | B60: =SUM(C60:D60) -> 0
A61: 행정·복지·농업·간호 | B61: =SUM(C61:D61) -> 0
A62: 행정·세무·복지·농업 | B62: =SUM(C62:D62) -> 0
A63: 7급 소계 | B63: =SUM(C63:C63) -> 2 | C63: =SUM(C64:C89) -> 2
A64: 행정 | B64: =SUM(C64:C64) -> 2 | C64: 2
A65: 세무 | B65: =SUM(C65:C65) -> 0
A66: 사회복지 | B66: =SUM(C66:C66) -> 0
A67: 전산 | B67: =SUM(C67:C67) -> 0
A68: 공업 | B68: =SUM(C68:C68) -> 0
A69: 농업 | B69: =SUM(C69:C69) -> 0
A70: 녹지 | B70: =SUM(C70:C70) -> 0
A71: 수의 | B71: =SUM(C71:C71) -> 0
A72: 보건 | B72: =SUM(C72:C72) -> 0
A73: 보건진료 | B73: =SUM(C73:C73) -> 0
A74: 의료기술 | B74: =SUM(C74:C74) -> 0
A75: 시설 | B75: =SUM(C75:C75) -> 0
A76: 행정·세무 | B76: =SUM(C76:C76) -> 0
... A79: 행정·농업 | B79: =SUM(C79:C79) -> 0
A80: 농업·수의 | B80: =SUM(C80:D80) -> 0
A81: 환경·공업 | B81: =SUM(C81:C81) -> 0
A82: 전산·통신 | B82: =SUM(C82:C82) -> 0
A83: 보건·간호 | B83: =SUM(C83:C83) -> 0
A84: 행정·시설 | B84: =SUM(C84:C84) -> 0
A85: 행정·환경 | B85: =SUM(C85:C85) -> 0
A86: 행정·환경·공업 | B86: =SUM(C86:C86) -> 0
A87: 보건·의료기술 | B87: =SUM(C87:C87) -> 0
A88: 행정·공업 | B88: =SUM(C88:C88) -> 0
A89: 행정·세무·농업 | B89: =SUM(C89:C89) -> 0
A90: 8급 소계 | B90: =SUM(C90:C90) -> 1 | C90: =SUM(C91:C112) -> 1
A91: 행정 | B91: =SUM(C91:C91) -> 1 | C91: 1
A92: 세무 | B92: =SUM(C92:C92) -> 0
A93: 사회복지 | B93: =SUM(C93:C93) -> 0
A94: 공업 | B94: =SUM(C94:C94) -> 0
A95: 농업 | B95: =SUM(C95:C95) -> 0
A96: 녹지 | B96: =SUM(C96:C96) -> 0
A97: 보건 | B97: =SUM(C97:C97) -> 0
A98: 보건진료 | B98: =SUM(C98:C98) -> 0
A99: 환경 | B99: =SUM(C99:C99) -> 0
A100: 시설 | B100: =SUM(C100:C100) -> 0
A101: 전산 | B101: =SUM(C101:C101) -> 0
A102: 간호·의료기술 | B102: =SUM(C102:C102) -> 0
A103: 행정·사회복지 | B103: =SUM(C103:C103) -> 0
... A112: 환경·보건 | B112: =SUM(C112:C112) -> 0
A113: 9급 소계 | B113: =SUM(C113:C113) -> 0 | C113: =SUM(C114:C124) -> 0
A114: 행정 | B114: =SUM(C114:C114) -> 0
A115: 사회복지 | B115: =SUM(C115:C115) -> 0
A116: 공업 | B116: =SUM(C116:C116) -> 0
A117: 농업 | B117: =SUM(C117:C117) -> 0
A118: 녹지 | B118: =SUM(C118:C118) -> 0
A119: 환경 | B119: =SUM(C119:C119) -> 0
A120: 보건 | B120: =SUM(C120:C120) -> 0
A121: 시설 | B121: =SUM(C121:C121) -> 0
A122: 행정·세무 | B122: =SUM(C122:C122) -> 0
A123: 행정·사회복지 | B123: =SUM(C123:C123) -> 0
A124: 보건·환경 | B124: =SUM(C124:C124) -> 0
A125: 별정직 계 | B125: =SUM(B126:B127) -> 0 | C125: =SUM(C126:C127) -> 0
A126: 비 서(6급상당) | B126: =SUM(C126:C126) -> 0
A127: 농기계교육교관(7급상당) | B127: =SUM(C127:C127) -> 0
A128: 연구직 계 | B128: =SUM(B129:B130) -> 0 | C128: =SUM(C129:C130) -> 0
A129: 학예연구사 | B129: =SUM(C129:C129) -> 0
A130: 기록연구사 | B130: =SUM(C130:C130) -> 0
A131: 농업연구사 | B131: =SUM(C131:C131) -> 0
...

Sheet 규정 직속
A1: 【별표4】 <개정전>
A2: 예천군 직속기관 정원표(규정 제2조와 관련)
A4: 기관별 직급별 | B4: 총계 | C4: 보 건 소 | D4: 농업기술센터
A5: 총 계 | B5: =B6+B8+B125+B135+B128+B132 -> 107 | C5: =C6+C8+C125+C135+C128+C132 -> 73 | D5: =D6+D8+D125+D135+D128+D132 -> 34
A6: 정무직 계 | B6: =B7 -> 0 | C6: =C7 -> 0 | D6: =D7 -> 0
A7: 정무직 | B7: =SUM(C7:D7) -> 0
A8: 일반직 계 | B8: =B9+B11+B15+B25+B63+B90+B113 -> 67 | C8: =C9+C11+C15+C25+C63+C113+C90 -> 67 | D8: =D9+D11+D15+D25+D63+D113+D90 -> 0
A9: 4급 소계 | B9: =B10 -> 0 | C9: =C10 -> 0 | D9: =D10 -> 0
A10: 4급 | B10: =SUM(C10:D10) -> 0
A11: 4급 내지 5급 소계 | B11: =SUM(B12:B14) -> 1 | C11: =SUM(C12:C14) -> 1 | D11: =SUM(D12:D14) -> 0
A12: 행정4급 내지 행정5급 | B12: =SUM(C12:D12) -> 0
A13: 행정4급 내지 행정·복지5급 | B13: =SUM(C13:D13) -> 0
A14: 기술4급·보건5급·간호5급 | B14: =SUM(C14:D14) -> 1 | C14: 1
A15: 5급 소계 | B15: =SUM(B16:B24) -> 0 | C15: =SUM(C16:C24) -> 0 | D15: =SUM(D16:D24) -> 0
A16: 행정 | B16: =SUM(C16:D16) -> 0
A17: 시설 | B17: =SUM(C17:D17) -> 0
A18: 행정·사회복지 | B18: =SUM(C18:D18) -> 0
A19: 행정·농업 | B19: =SUM(C19:D19) -> 0
A20: 행정·시설 | B20: =SUM(C20:D20) -> 0
A21: 행정·농업연구관 | B21: =SUM(C21:D21) -> 0
A22: 행정·농업·녹지 | B22: =SUM(C22:D22) -> 0
A23: 행정·농업·시설 | B23: =SUM(C23:D23) -> 0
A24: 행정·환경·시설 | B24: =SUM(C24:D24) -> 0
A25: 6급 소계 | B25: =SUM(C25:D25) -> 13 | C25: =SUM(C26:C62) -> 13 | D25: =SUM(D26:D62) -> 0
A26: 행정 | B26: =SUM(C26:D26) -> 0
A27: 세무 | B27: =SUM(C27:D27) -> 0
A28: 사회복지 | B28: =SUM(C28:D28) -> 0
A29: 전산 | B29: =SUM(C29:D29) -> 0
A30: 농업 | B30: =SUM(C30:D30) -> 0
A31: 녹지 | B31: =SUM(C31:D31) -> 0
A32: 시설 | B32: =SUM(C32:D32) -> 0
A33: 수의 | B33: =SUM(C33:D33) -> 0
A34: 보건 | B34: =SUM(C34:D34) -> 1 | C34: 1
A35: 보건진료 | B35: =SUM(C35:D35) -> 5 | C35: 5
A36: 행정·세무 | B36: =SUM(C36:D36) -> 0
A37: 행정·사회복지 | B37: =SUM(C37:D37) -> 0
A38: 행정·전산 | B38: =SUM(C38:D38) -> 0
A39: 행정·농업 | B39: =SUM(C39:D39) -> 0
A40: 행정·녹지 | B40: =SUM(C40:D40) -> 0
A41: 행정·공업 | B41: =SUM(C41:D41) -> 0
A42: 행정·환경 | B42: =SUM(C42:D42) -> 0
A43: 행정·시설 | B43: =SUM(C43:D43) -> 0
A44: 행정·보건 | B44: =SUM(C44:D44) -> 1 | C44: 1
A45: 행정·통신 | B45: =SUM(C45:D45) -> 0
A46: 전산·통신 | B46: =SUM(C46:D46) -> 0
A47: 농업·수의 | B47: =SUM(C47:D47) -> 0
A48: 보건·환경 | B48: =SUM(C48:D48) -> 0
A49: 행정·세무·전산 | B49: =SUM(C49:D49) -> 0
A50: 행정·세무·농업 | B50: =SUM(C50:D50) -> 0
A51: 행정·세무·시설 | B51: =SUM(C51:D51) -> 0
A52: 행정·복지·환경 | B52: =SUM(C52:D52) -> 0
A53: 행정·세무·복지 | B53: =SUM(C53:D53) -> 0
A54: 행정·복지·농업 | B54: =SUM(C54:D54) -> 0
A55: 행정·농업·수의 | B55: =SUM(C55:D55) -> 0
A56: 행정·농업·녹지 | B56: =SUM(C56:D56) -> 0
A57: 행정·농업·시설 | B57: =SUM(C57:D57) -> 0
A58: 보건·간호·의료기술 | B58: =SUM(C58:D58) -> 2 | C58: 2
A59: 보건·간호·약무 | B59: =SUM(C59:D59) -> 4 | C59: 4
A60: 행정·복지·농업·보건 | B60: =SUM(C60:N60) -> 0
A61: 행정·복지·농업·간호 | B61: =SUM(C61:N61) -> 0
A62: 행정·세무·복지·농업 | B62: =SUM(C62:N62) -> 0
A63: 7급 소계 | B63: =SUM(C63:D63) -> 22 | C63: =SUM(C64:C89) -> 22 | D63: =SUM(D64:D89) -> 0
A64: 행정 | B64: =SUM(C64:D64) -> 0
A65: 세무 | B65: =SUM(C65:D65) -> 0
A66: 사회복지 | B66: =SUM(C66:D66) -> 0
A67: 전산 | B67: =SUM(C67:D67) -> 0
A68: 공업 | B68: =SUM(C68:D68) -> 0
A69: 농업 | B69: =SUM(C69:D69) -> 0
A70: 녹지 | B70: =SUM(C70:D70) -> 0
A71: 수의 | B71: =SUM(C71:D71) -> 0
A72: 보건 | B72: =SUM(C72:D72) -> 2 | C72: 2
A73: 보건진료 | B73: =SUM(C73:D73) -> 6 | C73: 6
A74: 의료기술 | B74: =SUM(C74:D74) -> 2 | C74: 2
A75: 시설 | B75: =SUM(C75:D75) -> 0
A76: 행정·세무 | B76: =SUM(C76:D76) -> 0
A77: 행정·전산 | B77: =SUM(C77:D77) -> 0
A78: 행정·사회복지 | B78: =SUM(C78:D78) -> 0
A79: 행정·농업 | B79: =SUM(C79:D79) -> 0
A80: 농업·수의 | B80: =SUM(C80:N80) -> 0
A81: 환경·공업 | B81: =SUM(C81:D81) -> 0
A82: 전산·통신 | B82: =SUM(C82:D82) -> 0
A83: 보건·간호 | B83: =SUM(C83:D83) -> 11 | C83: 11
A84: 행정·시설 | B84: =SUM(C84:D84) -> 0
A85: 행정·환경 | B85: =SUM(C85:D85) -> 0
A86: 행정·환경·공업 | B86: =SUM(C86:D86) -> 0
A87: 보건·의료기술 | B87: =SUM(C87:D87) -> 1 | C87: 1
A88: 행정·공업 | B88: =SUM(C88:D88) -> 0
A89: 행정·세무·농업 | B89: =SUM(C89:D89) -> 0
A90: 8급 소계 | B90: =SUM(C90:D90) -> 23 | C90: =SUM(C91:C112) -> 23 | D90: =SUM(D91:D112) -> 0
A91: 행정 | B91: =SUM(C91:D91) -> 0
A92: 세무 | B92: =SUM(C92:D92) -> 0
A93: 사회복지 | B93: =SUM(C93:D93) -> 0
A94: 공업 | B94: =SUM(C94:D94) -> 0
A95: 농업 | B95: =SUM(C95:D95) -> 0
A96: 녹지 | B96: =SUM(C96:D96) -> 0
A97: 보건 | B97: =SUM(C97:D97) -> 2 | C97: 2
A98: 보건진료 | B98: =SUM(C98:D98) -> 4 | C98: 4
A99: 환경 | B99: =SUM(C99:D99) -> 0
A100: 시설 | B100: =SUM(C100:D100) -> 0
A101: 전산 | B101: =SUM(C101:D101) -> 0
...

Sheet 규정 사업소
A1: 【별표5】
A2: 예천군 사업소 정원표(규정 제2조와 관련)
A4: 기관별 직급별 | B4: 총계 | C4: 문화체육사업소 | D4: 곤충연구소
A5: 총 계 | B5: =B6+B8+B125+B135+B128+B132 -> 30 | C5: =C6+C8+C125+C135+C128+C132 -> 19 | D5: =D6+D8+D125+D135+D128+D132 -> 11
A6: 정무직 계 | B6: =B7 -> 0 | C6: =C7 -> 0 | D6: =D7 -> 0
A7: 정무직 | B7: =SUM(C7:D7) -> 0
A8: 일반직 계 | B8: =B9+B11+B15+B25+B63+B90+B113 -> 13 | C8: =C9+C11+C15+C25+C63+C113+C90 -> 9 | D8: =D9+D11+D15+D25+D63+D113+D90 -> 4
A9: 4급 소계 | B9: =B10 -> 0 | C9: =C10 -> 0 | D9: =D10 -> 0
A10: 4급 | B10: =SUM(C10:D10) -> 0
A11: 4급 내지 5급 소계 | B11: =SUM(B12:B14) -> 0 | C11: =SUM(C12:C14) -> 0 | D11: =SUM(D12:D14) -> 0
A12: 행정4급 내지 행정5급 | B12: =SUM(C12:D12) -> 0
A13: 행정4급 내지 행정·복지5급 | B13: =SUM(C13:D13) -> 0
A14: 기술4급·보건5급·간호5급 | B14: =SUM(C14:D14) -> 0
A15: 5급 소계 | B15: =SUM(B16:B24) -> 2 | C15: =SUM(C16:C24) -> 1 | D15: =SUM(D16:D24) -> 1
A16: 행정 | B16: =SUM(C16:D16) -> 0
A17: 시설 | B17: =SUM(C17:D17) -> 0
A18: 행정·사회복지 | B18: =SUM(C18:D18) -> 0
A19: 행정·농업 | B19: =SUM(C19:D19) -> 0
A20: 행정·시설 | B20: =SUM(C20:D20) -> 1 | C20: 1
A21: 행정·농업연구관 | B21: =SUM(C21:D21) -> 1 | D21: 1
A22: 행정·농업·녹지 | B22: =SUM(C22:D22) -> 0
A23: 행정·농업·시설 | B23: =SUM(C23:D23) -> 0
A24: 행정·환경·시설 | B24: =SUM(C24:D24) -> 0
A25: 6급 소계 | B25: =SUM(C25:D25) -> 5 | C25: =SUM(C26:C62) -> 4 | D25: =SUM(D26:D62) -> 1
A26: 행정 | B26: =SUM(C26:D26) -> 4 | C26: 3 | D26: 1
A27: 세무 | B27: =SUM(C27:D27) -> 0
A28: 사회복지 | B28: =SUM(C28:D28) -> 0
A29: 전산 | B29: =SUM(C29:D29) -> 0
A30: 농업 | B30: =SUM(C30:D30) -> 0
A31: 녹지 | B31: =SUM(C31:D31) -> 0
A32: 시설 | B32: =SUM(C32:D32) -> 0
A33: 수의 | B33: =SUM(C33:D33) -> 0
A34: 보건 | B34: =SUM(C34:D34) -> 0
A35: 보건진료 | B35: =SUM(C35:D35) -> 0
A36: 행정·세무 | B36: =SUM(C36:D36) -> 0
A37: 행정·사회복지 | B37: =SUM(C37:D37) -> 0
A38: 행정·전산 | B38: =SUM(C38:D38) -> 0
... A44: 행정·보건 | B44: =SUM(C44:D44) -> 0
A45: 행정·통신 | B45: =SUM(C45:D45) -> 1 | C45: 1
A46: 전산·통신 | B46: =SUM(C46:D46) -> 0
A47: 농업·수의 | B47: =SUM(C47:D47) -> 0
A48: 보건·환경 | B48: =SUM(C48:D48) -> 0
A49: 행정·세무·전산 | B49: =SUM(C49:D49) -> 0
A50: 행정·세무·농업 | B50: =SUM(C50:D50) -> 0
A51: 행정·세무·시설 | B51: =SUM(C51:D51) -> 0
A52: 행정·복지·환경 | B52: =SUM(C52:D52) -> 0
A53: 행정·세무·복지 | B53: =SUM(C53:D53) -> 0
A54: 행정·복지·농업 | B54: =SUM(C54:D54) -> 0
A55: 행정·농업·수의 | B55: =SUM(C55:D55) -> 0
A56: 행정·농업·녹지 | B56: =SUM(C56:D56) -> 0
A57: 행정·농업·시설 | B57: =SUM(C57:D57) -> 0
... A59: 보건·간호·약무 | B59: =SUM(C59:D59) -> 0
A60: 행정·복지·농업·보건 | B60: =SUM(C60:N60) -> 0
A61: 행정·복지·농업·간호 | B61: =SUM(C61:N61) -> 0
A62: 행정·세무·복지·농업 | B62: =SUM(C62:N62) -> 0
A63: 7급 소계 | B63: =SUM(C63:D63) -> 5 | C63: =SUM(C64:C89) -> 3 | D63: =SUM(D64:D89) -> 2
A64: 행정 | B64: =SUM(C64:D64) -> 4 | C64: 3 | D64: 1
A65: 세무 | B65: =SUM(C65:D65) -> 0
A66: 사회복지 | B66: =SUM(C66:D66) -> 0
A67: 전산 | B67: =SUM(C67:D67) -> 0
A68: 공업 | B68: =SUM(C68:D68) -> 0
A69: 농업 | B69: =SUM(C69:D69) -> 0
A70: 녹지 | B70: =SUM(C70:D70) -> 0
A71: 수의 | B71: =SUM(C71:D71) -> 0
A72: 보건 | B72: =SUM(C72:D72) -> 0
A73: 보건진료 | B73: =SUM(C73:D73) -> 0
A74: 의료기술 | B74: =SUM(C74:D74) -> 0
A75: 시설 | B75: =SUM(C75:D75) -> 1 | D75: 1
A76: 행정·세무 | B76: =SUM(C76:D76) -> 0
A77: 행정·전산 | B77: =SUM(C77:D77) -> 0
A78: 행정·사회복지 | B78: =SUM(C78:D78) -> 0
A79: 행정·농업 | B79: =SUM(C79:D79) -> 0
A80: 농업·수의 | B80: =SUM(C80:N80) -> 0
A81: 환경·공업 | B81: =SUM(C81:D81) -> 0
A82: 전산·통신 | B82: =SUM(C82:D82) -> 0
A83: 보건·간호 | B83: =SUM(C83:D83) -> 0
A84: 행정·시설 | B84: =SUM(C84:D84) -> 0
A85: 행정·환경 | B85: =SUM(C85:D85) -> 0
A86: 행정·환경·공업 | B86: =SUM(C86:D86) -> 0
A87: 보건·의료기술 | B87: =SUM(C87:D87) -> 0
A88: 행정·공업 | B88: =SUM(C88:D88) -> 0
A89: 행정·세무·농업 | B89: =SUM(C89:D89) -> 0
A90: 8급 소계 | B90: =SUM(C90:D90) -> 1 | C90: =SUM(C91:C112) -> 1 | D90: =SUM(D91:D112) -> 0
A91: 행정 | B91: =SUM(C91:D91) -> 1 | C91: 1 | D91: 0
A92: 세무 | B92: =SUM(C92:D92) -> 0
A93: 사회복지 | B93: =SUM(C93:D93) -> 0
A94: 공업 | B94: =SUM(C94:D94) -> 0
A95: 농업 | B95: =SUM(C95:D95) -> 0
A96: 녹지 | B96: =SUM(C96:D96) -> 0
A97: 보건 | B97: =SUM(C97:D97) -> 0
A98: 보건진료 | B98: =SUM(C98:D98) -> 0
A99: 환경 | B99: =SUM(C99:D99) -> 0
A100: 시설 | B100: =SUM(C100:D100) -> 0
A101: 전산 | B101: =SUM(C101:D101) -> 0
A102: 간호·의료기술 | B102: =SUM(C102:D102) -> 0
A103: 행정·사회복지 | B103: =SUM(C103:D103) -> 0
... A112: 환경·보건 | B112: =SUM(C112:D112) -> 0
A113: 9급 소계 | B113: =SUM(C113:D113) -> 0 | C113: =SUM(C114:C124) -> 0 | D113: =SUM(D114:D124) -> 0
A114: 행정 | B114: =SUM(C114:D114) -> 0
A115: 사회복지 | B115: =SUM(C115:D115) -> 0
...

Sheet 규정 읍면
A1: 【별표6】
A2: 예천군 읍면 정원표(규정 제2조와 관련)
A4: 기관별 직급별 | B4: 총계 | C4: 예천읍 | D4: 용문면 | E4: 상리면 | F4: 하리면 | G4: 감천면 | H4: 보문면 | I4: 호명면 | J4: 유천면 | K4: 용궁면 | L4: 개포면 | M4: 지보면 | N4: 풍양면
A5: 총 계 | B5: =B6+B8+B125+B135+B128+B132 -> 196 | C5: =C6+C8+C125+C135+C128+C132 -> 28 | D5: =D6+D8+D125+D135+D128+D132 -> 15 | E5: =E6+E8+E125+E135+E128+E132 -> 14 | F5: =F6+F8+F125+F135+F128+F132 -> 14 | G5: =G6+G8+G125+G135+G128+G132 -> 16 | H5: =H6+H8+H125+H135+H128+H132 -> 15 | I5: =I6+I8+I125+I135+I128+I132 -> 16 | ... N5: =N6+N8+N125+N135+N128+N132 -> 17
A6: 정무직 계 | B6: =B7 -> 0 | C6: =C7 -> 0 | D6: =D7 -> 0 | E6: =E7 -> 0 | F6: =F7 -> 0 | G6: =G7 -> 0 | H6: =H7 -> 0 | I6: =I7 -> 0 | ... N6: =N7 -> 0
A7: 정무직 | B7: =SUM(C7:N7) -> 0
A8: 일반직 계 | B8: =B9+B11+B15+B25+B63+B90+B113 -> 168 | C8: =C9+C11+C15+C25+C63+C113+C90 -> 22 | D8: =D9+D11+D15+D25+D63+D113+D90 -> 13 | E8: =E9+E11+E15+E25+E63+E113+E90 -> 12 | F8: =F9+F11+F15+F25+F63+F113+F90 -> 12 | G8: =G9+G11+G15+G25+G63+G113+G90 -> 14 | H8: =H9+H11+H15+H25+H63+H113+H90 -> 13 | I8: =I9+I11+I15+I25+I63+I113+I90 -> 14 | J8: =J9+J11+J15+J25+J63+J113+J90 -> 14 | ... N8: =N9+N11+N15+N25+N63+N113+N90 -> 15
A9: 4급 소계 | B9: =B10 -> 0 | C9: =C10 -> 0 | D9: =D10 -> 0 | E9: =E10 -> 0 | F9: =F10 -> 0 | G9: =G10 -> 0 | H9: =H10 -> 0 | I9: =I10 -> 0 | ... N9: =N10 -> 0
A10: 4급 | B10: =SUM(C10:N10) -> 0
A11: 4급 내지 5급 소계 | B11: =SUM(B12:B14) -> 0 | C11: =SUM(C12:C14) -> 0 | D11: =SUM(D12:D14) -> 0 | E11: =SUM(E12:E14) -> 0 | F11: =SUM(F12:F14) -> 0 | G11: =SUM(G12:G14) -> 0 | H11: =SUM(H12:H14) -> 0 | I11: =SUM(I12:I14) -> 0 | ... N11: =SUM(N12:N14) -> 0
A12: 행정4급 내지 행정5급 | B12: =SUM(C12:N12) -> 0
A13: 행정4급 내지 행정·복지5급 | B13: =SUM(C13:H13) -> 0
A14: 기술4급·보건5급·간호5급 | B14: =SUM(C14:N14) -> 0
A15: 5급 소계 | B15: =SUM(B16:B24) -> 12 | C15: =SUM(C16:C24) -> 1 | D15: =SUM(D16:D24) -> 1 | E15: =SUM(E16:E24) -> 1 | F15: =SUM(F16:F24) -> 1 | G15: =SUM(G16:G24) -> 1 | H15: =SUM(H16:H24) -> 1 | I15: =SUM(I16:I24) -> 1 | ... N15: =SUM(N16:N24) -> 1
A16: 행정 | B16: =SUM(C16:N16) -> 0
A17: 시설 | B17: =SUM(C17:N17) -> 0
A18: 행정·사회복지 | B18: =SUM(C18:N18) -> 0
A19: 행정·농업 | B19: =SUM(C19:N19) -> 4 | D19: 1 | J19: 1 | M19: 1 | N19: 1
A20: 행정·시설 | B20: =SUM(C20:N20) -> 1 | G20: 1
A21: 행정·농업연구관 | B21: =SUM(C21:N21) -> 0
A22: 행정·농업·녹지 | B22: =SUM(C22:N22) -> 1 | E22: 1
A23: 행정·농업·시설 | B23: =SUM(C23:N23) -> 6 | C23: 1 | F23: 1 | H23: 1 | I23: 1 | K23: 1 | L23: 1
A24: 행정·환경·시설 | B24: =SUM(C24:N24) -> 0
A25: 6급 소계 | B25: =SUM(C25:N25) -> 51 | C25: =SUM(C26:C62) -> 7 | D25: =SUM(D26:D62) -> 4 | E25: =SUM(E26:E62) -> 4 | F25: =SUM(F26:F62) -> 4 | G25: =SUM(G26:G62) -> 4 | H25: =SUM(H26:H62) -> 4 | I25: =SUM(I26:I62) -> 4 | J25: =SUM(J26:J62) -> 4 | ... N25: =SUM(N26:N62) -> 4
A26: 행정 | B26: =SUM(C26:N26) -> 0
A27: 세무 | B27: =SUM(C27:N27) -> 0
A28: 사회복지 | B28: =SUM(C28:N28) -> 1 | C28: 1
A29: 전산 | B29: =SUM(C29:N29) -> 0
A30: 농업 | B30: =SUM(C30:N30) -> 0
A31: 녹지 | B31: =SUM(C31:N31) -> 0
A32: 시설 | B32: =SUM(C32:N32) -> 1 | C32: 1
A33: 수의 | B33: =SUM(C33:N33) -> 0
A34: 보건 | B34: =SUM(C34:N34) -> 0
A35: 보건진료 | B35: =SUM(C35:N35) -> 0
A36: 행정·세무 | B36: =SUM(C36:N36) -> 1 | C36: 1
A37: 행정·사회복지 | B37: =SUM(C37:N37) -> 0 | C37: 0
A38: 행정·전산 | B38: =SUM(C38:N38) -> 0
A39: 행정·농업 | B39: =SUM(C39:N39) -> 1 | C39: 1
A40: 행정·녹지 | B40: =SUM(C40:N40) -> 0
A41: 행정·공업 | B41: =SUM(C41:N41) -> 0
A42: 행정·환경 | B42: =SUM(C42:N42) -> 0
A43: 행정·시설 | B43: =SUM(C43:N43) -> 0
A44: 행정·보건 | B44: =SUM(C44:N44) -> 0
A45: 행정·통신 | B45: =SUM(C45:N45) -> 0
A46: 전산·통신 | B46: =SUM(C46:N46) -> 0
A47: 농업·수의 | B47: =SUM(C47:N47) -> 0
A48: 보건·환경 | B48: =SUM(C48:N48) -> 0
A49: 행정·세무·전산 | B49: =SUM(C49:N49) -> 0
A50: 행정·세무·농업 | B50: =SUM(C50:N50) -> 24 | C50: 1 | D50: 2 | E50: 2 | F50: 2 | G50: 2 | H50: 2 | I50: 2 | J50: 3 | K50: 2 | L50: 2 | M50: 2 | N50: 2
A51: 행정·세무·시설 | B51: =SUM(C51:N51) -> 0
A52: 행정·복지·환경 | B52: =SUM(C52:N52) -> 0
A53: 행정·세무·복지 | B53: =SUM(C53:N53) -> 2 | D53: 1 | K53: 1
A54: 행정·복지·농업 | B54: =SUM(C54:N54) -> 4 | C54: 1 | G54: 1 | M54: 1 | N54: 1
A55: 행정·농업·수의 | B55: =SUM(C55:N55) -> 2 | C55: 1 | N55: 1
A56: 행정·농업·녹지 | B56: =SUM(C56:N56) -> 2 | D56: 1 | E56: 1
A57: 행정·농업·시설 | B57: =SUM(C57:N57) -> 8 | F57: 1 | G57: 1 | H57: 1 | I57: 1 | J57: 1 | K57: 1 | L57: 1 | M57: 1
A58: 보건·간호·의료기술 | B58: =SUM(C58:N58) -> 0
A59: 보건·간호·약무 | B59: =SUM(C59:N59) -> 0
A60: 행정·복지·농업·보건 | B60: =SUM(C60:N60) -> 1 | H60: 1
A61: 행정·복지·농업·간호 | B61: =SUM(C61:N61) -> 2 | I61: 1 | L61: 1
A62: 행정·세무·복지·농업 | B62: =SUM(C62:N62) -> 2 | E62: 1 | F62: 1
A63: 7급 소계 | B63: =SUM(C63:N63) -> 37 | C63: =SUM(C64:C89) -> 6 | D63: =SUM(D64:D89) -> 3 | E63: =SUM(E64:E89) -> 2 | F63: =SUM(F64:F89) -> 2 | G63: =SUM(G64:G89) -> 3 | H63: =SUM(H64:H89) -> 2 | I63: =SUM(I64:I89) -> 4 | J63: =SUM(J64:J89) -> 3 | ... N63: =SUM(N64:N89) -> 3
A64: 행정 | B64: =SUM(C64:N64) -> 0
A65: 세무 | B65: =SUM(C65:N65) -> 0
A66: 사회복지 | B66: =SUM(C66:N66) -> 2 | C66: 1 | I66: 1
A67: 전산 | B67: =SUM(C67:N67) -> 0
A68: 공업 | B68: =SUM(C68:N68) -> 0
A69: 농업 | B69: =SUM(C69:N69) -> 0
A70: 녹지 | B70: =SUM(C70:N70) -> 0
A71: 수의 | B71: =SUM(C71:N71) -> 0
A72: 보건 | B72: =SUM(C72:N72) -> 0
A73: 보건진료 | B73: =SUM(C73:N73) -> 0
A74: 의료기술 | B74: =SUM(C74:N74) -> 0
A75: 시설 | B75: =SUM(C75:N75) -> 1 | C75: 1
A76: 행정·세무 | B76: =SUM(C76:N76) -> 2 | C76: 1 | L76: 1
A77: 행정·전산 | B77: =SUM(C77:N77) -> 0
A78: 행정·사회복지 | B78: =SUM(C78:N78) -> 8 | D78: 1 | G78: 1 | H78: 1 | I78: 1 | J78: 1 | K78: 1 | M78: 1 | N78: 1
A79: 행정·농업 | B79: =SUM(C79:N79) -> 3 | C79: 3
A80: 농업·수의 | B80: =SUM(C80:N80) -> 0
A81: 환경·공업 | B81: =SUM(C81:N81) -> 0
A82: 전산·통신 | B82: =SUM(C82:N82) -> 0
A83: 보건·간호 | B83: =SUM(C83:N83) -> 0
A84: 행정·시설 | B84: =SUM(C84:N84) -> 0
A85: 행정·환경 | B85: =SUM(C85:N85) -> 0
A86: 행정·환경·공업 | B86: =SUM(C86:N86) -> 0
A87: 보건·의료기술 | B87: =SUM(C87:N87) -> 0
A88: 행정·공업 | B88: =SUM(C88:N88) -> 0
A89: 행정·세무·농업 | B89: =SUM(C89:N89) -> 21 | D89: 2 | E89: 2 | F89: 2 | G89: 2 | H89: 1 | I89: 2 | J89: 2 | K89: 2 | L89: 2 | M89: 2 | N89: 2
A90: 8급 소계 | B90: =SUM(C90:N90) -> 39 | C90: =SUM(C91:C112) -> 4 | D90: =SUM(D91:D112) -> 3 | E90: =SUM(E91:E112) -> 3 | F90: =SUM(F91:F112) -> 3 | G90: =SUM(G91:G112) -> 3 | H90: =SUM(H91:H112) -> 4 | I90: =SUM(I91:I112) -> 3 | J90: =SUM(J91:J112) -> 4 | ... N90: =SUM(N91:N112) -> 4
A91: 행정 | B91: =SUM(C91:N91) -> 0
A92: 세무 | B92: =SUM(C92:N92) -> 0
A93: 사회복지 | B93: =SUM(C93:N93) -> 2 | H93: 1 | L93: 1
A94: 공업 | B94: =SUM(C94:N94) -> 0
A95: 농업 | B95: =SUM(C95:N95) -> 0
A96: 녹지 | B96: =SUM(C96:N96) -> 0
A97: 보건 | B97: =SUM(C97:N97) -> 0
A98: 보건진료 | B98: =SUM(C98:N98) -> 0
A99: 환경 | B99: =SUM(C99:N99) -> 0
A100: 시설 | B100: =SUM(C100:N100) -> 8 | D100: 1 | G100: 1 | H100: 1 | I100: 1 | J100: 1 | K100: 1 | M100: 1 | N100: 1
A101: 전산 | B101: =SUM(C101:N101) -> 0
...

Sheet 정원규칙
A1: 【별표1】 <개정전>
A2: 예천군 직렬별 지방공무원 정원표(규칙 제2조와 관련)
A4: 기관별 직급별 | B4: 총계 | C4: 본청 | D4: 의회 | E4: 직속 기관 | F4: 사업소 | G4: 읍 | H4: 면
A5: 총 계 | B5: =B6+B8+B125+B135+B128+B132 -> 619 | C5: =C6+C8+C125+C135+C128+C132 -> 276 | D5: =D6+D8+D125+D135+D128+D132 -> 10 | E5: =E6+E8+E125+E135+E128+E132 -> 107 | F5: =F6+F8+F125+F135+F128+F132 -> 30 | G5: =G6+G8+G125+G135+G128+G132 -> 28 | H5: =H6+H8+H125+H135+H128+H132 -> 168
A6: 정무직 계 | B6: =B7 -> 1 | C6: =C7 -> 1 | D6: =D7 -> 0 | E6: =E7 -> 0 | F6: =F7 -> 0 | G6: =G7 -> 0 | H6: =H7 -> 0
A7: 정무직 | B7: =SUM(C7:H7) -> 1 | C7: ='규정 본청'!B7 -> 1 | D7: ='규정 의회'!B7 -> 0 | E7: ='규정 직속'!B7 -> 0 | F7: ='규정 사업소'!B7 -> 0 | G7: ='규정 읍면'!C7 -> 0 | H7: ='규정 읍면'!B7-'규정 읍면'!C7 -> 0
A8: 일반직 계 | B8: =B9+B11+B15+B25+B63+B90+B113 -> 500 | C8: =C9+C11+C15+C25+C63+C113+C90 -> 245 | D8: =D9+D11+D15+D25+D63+D113+D90 -> 7 | E8: =E9+E11+E15+E25+E63+E113+E90 -> 67 | F8: =F9+F11+F15+F25+F63+F113+F90 -> 13 | G8: =G9+G11+G15+G25+G63+G113+G90 -> 22 | H8: =H9+H11+H15+H25+H63+H113+H90 -> 146
A9: 4급 소계 | B9: =B10 -> 1 | C9: =C10 -> 1 | D9: =D10 -> 0 | E9: =E10 -> 0 | F9: =F10 -> 0 | G9: =G10 -> 0 | H9: =H10 -> 0
A10: 4급 | B10: =SUM(C10:H10) -> 1 | C10: ='규정 본청'!B10 -> 1 | D10: ='규정 의회'!B10 -> 0 | E10: ='규정 직속'!B10 -> 0 | F10: ='규정 사업소'!B10 -> 0 | G10: ='규정 읍면'!C10 -> 0 | H10: ='규정 읍면'!B10-'규정 읍면'!C10 -> 0
A11: 4급 내지 5급 소계 | B11: =SUM(B12:B14) -> 3 | C11: =SUM(C12:C14) -> 2 | D11: =SUM(D12:D14) -> 0 | E11: =SUM(E12:E14) -> 1 | F11: =SUM(F12:F14) -> 0 | G11: =SUM(G12:G14) -> 0 | H11: =SUM(H12:H14) -> 0
A12: 행정4급 내지 행정5급 | B12: =SUM(C12:H12) -> 1 | C12: ='규정 본청'!B12 -> 1 | D12: ='규정 의회'!B12 -> 0 | E12: ='규정 직속'!B12 -> 0 | F12: ='규정 사업소'!B12 -> 0 | G12: ='규정 읍면'!C12 -> 0 | H12: ='규정 읍면'!B12-'규정 읍면'!C12 -> 0
A13: 행정4급 내지 행정·복지5급 | B13: =SUM(C13:H13) -> 1 | C13: ='규정 본청'!B13 -> 1 | D13: ='규정 의회'!B12 -> 0 | E13: ='규정 직속'!B12 -> 0 | F13: ='규정 사업소'!B12 -> 0 | G13: ='규정 읍면'!C12 -> 0 | H13: ='규정 읍면'!B12-'규정 읍면'!C12 -> 0
A14: 기술4급·보건5급·간호5급 | B14: =SUM(C14:H14) -> 1 | C14: ='규정 본청'!B14 -> 0 | D14: ='규정 의회'!B14 -> 0 | E14: ='규정 직속'!B14 -> 1 | F14: ='규정 사업소'!B14 -> 0 | G14: ='규정 읍면'!C14 -> 0 | H14: ='규정 읍면'!B14-'규정 읍면'!C14 -> 0
A15: 5급 소계 | B15: =SUM(B16:B24) -> 29 | C15: =SUM(C16:C24) -> 12 | D15: =SUM(D16:D24) -> 3 | E15: =SUM(E16:E24) -> 0 | F15: =SUM(F16:F24) -> 2 | G15: =SUM(G16:G24) -> 1 | H15: =SUM(H16:H24) -> 11
A16: 행정 | B16: =SUM(C16:H16) -> 9 | C16: ='규정 본청'!B16 -> 6 | D16: ='규정 의회'!B16 -> 3 | E16: ='규정 직속'!B16 -> 0 | F16: ='규정 사업소'!B16 -> 0 | G16: ='규정 읍면'!C16 -> 0 | H16: ='규정 읍면'!B16-'규정 읍면'!C16 -> 0
A17: 시설 | B17: =SUM(C17:H17) -> 1 | C17: ='규정 본청'!B17 -> 1 | D17: ='규정 의회'!B17 -> 0 | E17: ='규정 직속'!B17 -> 0 | F17: ='규정 사업소'!B17 -> 0 | G17: ='규정 읍면'!C17 -> 0 | H17: ='규정 읍면'!B17-'규정 읍면'!C17 -> 0
A18: 행정·사회복지 | B18: =SUM(C18:H18) -> 0 | C18: ='규정 본청'!B18 -> 0 | D18: ='규정 의회'!B18 -> 0 | E18: ='규정 직속'!B18 -> 0 | F18: ='규정 사업소'!B18 -> 0 | G18: ='규정 읍면'!C18 -> 0 | H18: ='규정 읍면'!B18-'규정 읍면'!C18 -> 0
A19: 행정·농업 | B19: =SUM(C19:H19) -> 5 | C19: ='규정 본청'!B19 -> 1 | D19: ='규정 의회'!B19 -> 0 | E19: ='규정 직속'!B19 -> 0 | F19: ='규정 사업소'!B19 -> 0 | G19: ='규정 읍면'!C19 -> 0 | H19: ='규정 읍면'!B19-'규정 읍면'!C19 -> 4
A20: 행정·시설 | B20: =SUM(C20:H20) -> 4 | C20: ='규정 본청'!B20 -> 2 | D20: ='규정 의회'!B20 -> 0 | E20: ='규정 직속'!B20 -> 0 | F20: ='규정 사업소'!B20 -> 1 | G20: ='규정 읍면'!C20 -> 0 | H20: ='규정 읍면'!B20-'규정 읍면'!C20 -> 1
A21: 행정·농업연구관 | B21: =SUM(C21:H21) -> 1 | C21: ='규정 본청'!B21 -> 0 | D21: ='규정 의회'!B21 -> 0 | E21: ='규정 직속'!B21 -> 0 | F21: ='규정 사업소'!B21 -> 1 | G21: ='규정 읍면'!C21 -> 0 | H21: ='규정 읍면'!B21-'규정 읍면'!C21 -> 0
A22: 행정·농업·녹지 | B22: =SUM(C22:H22) -> 2 | C22: ='규정 본청'!B22 -> 1 | D22: ='규정 의회'!B22 -> 0 | E22: ='규정 직속'!B22 -> 0 | F22: ='규정 사업소'!B22 -> 0 | G22: ='규정 읍면'!C22 -> 0 | H22: ='규정 읍면'!B22-'규정 읍면'!C22 -> 1
A23: 행정·농업·시설 | B23: =SUM(C23:H23) -> 6 | C23: ='규정 본청'!B23 -> 0 | D23: ='규정 의회'!B23 -> 0 | E23: ='규정 직속'!B23 -> 0 | F23: ='규정 사업소'!B23 -> 0 | G23: ='규정 읍면'!C23 -> 1 | H23: ='규정 읍면'!B23-'규정 읍면'!C23 -> 5
A24: 행정·환경·시설 | B24: =SUM(C24:H24) -> 1 | C24: ='규정 본청'!B24 -> 1 | D24: ='규정 의회'!B24 -> 0 | E24: ='규정 직속'!B24 -> 0 | F24: ='규정 사업소'!B24 -> 0 | G24: ='규정 읍면'!C24 -> 0 | H24: ='규정 읍면'!B24-'규정 읍면'!C24 -> 0
A25: 6급 소계 | B25: =SUM(C25:H25) -> 137 | C25: =SUM(C26:C62) -> 67 | D25: =SUM(D26:D62) -> 1 | E25: =SUM(E26:E62) -> 13 | F25: =SUM(F26:F62) -> 5 | G25: =SUM(G26:G62) -> 7 | H25: =SUM(H26:H62) -> 44
A26: 행정 | B26: =SUM(C26:H26) -> 30 | C26: ='규정 본청'!B26 -> 25 | D26: ='규정 의회'!B26 -> 1 | E26: ='규정 직속'!B26 -> 0 | F26: ='규정 사업소'!B26 -> 4 | G26: ='규정 읍면'!C26 -> 0 | H26: ='규정 읍면'!B26-'규정 읍면'!C26 -> 0
A27: 세무 | B27: =SUM(C27:H27) -> 2 | C27: ='규정 본청'!B27 -> 2 | D27: ='규정 의회'!B27 -> 0 | E27: ='규정 직속'!B27 -> 0 | F27: ='규정 사업소'!B27 -> 0 | G27: ='규정 읍면'!C27 -> 0 | H27: ='규정 읍면'!B27-'규정 읍면'!C27 -> 0
A28: 사회복지 | B28: =SUM(C28:H28) -> 1 | C28: ='규정 본청'!B28 -> 0 | D28: ='규정 의회'!B28 -> 0 | E28: ='규정 직속'!B28 -> 0 | F28: ='규정 사업소'!B28 -> 0 | G28: ='규정 읍면'!C28 -> 1 | H28: ='규정 읍면'!B28-'규정 읍면'!C28 -> 0
A29: 전산 | B29: =SUM(C29:H29) -> 0 | C29: ='규정 본청'!B29 -> 0 | D29: ='규정 의회'!B29 -> 0 | E29: ='규정 직속'!B29 -> 0 | F29: ='규정 사업소'!B29 -> 0 | G29: ='규정 읍면'!C29 -> 0 | H29: ='규정 읍면'!B29-'규정 읍면'!C29 -> 0
A30: 농업 | B30: =SUM(C30:H30) -> 3 | C30: ='규정 본청'!B30 -> 3 | D30: ='규정 의회'!B30 -> 0 | E30: ='규정 직속'!B30 -> 0 | F30: ='규정 사업소'!B30 -> 0 | G30: ='규정 읍면'!C30 -> 0 | H30: ='규정 읍면'!B30-'규정 읍면'!C30 -> 0
A31: 녹지 | B31: =SUM(C31:H31) -> 2 | C31: ='규정 본청'!B31 -> 2 | D31: ='규정 의회'!B31 -> 0 | E31: ='규정 직속'!B31 -> 0 | F31: ='규정 사업소'!B31 -> 0 | G31: ='규정 읍면'!C31 -> 0 | H31: ='규정 읍면'!B31-'규정 읍면'!C31 -> 0
A32: 시설 | B32: =SUM(C32:H32) -> 6 | C32: ='규정 본청'!B32 -> 5 | D32: ='규정 의회'!B32 -> 0 | E32: ='규정 직속'!B32 -> 0 | F32: ='규정 사업소'!B32 -> 0 | G32: ='규정 읍면'!C32 -> 1 | H32: ='규정 읍면'!B32-'규정 읍면'!C32 -> 0
A33: 수의 | B33: =SUM(C33:H33) -> 0 | C33: ='규정 본청'!B33 -> 0 | D33: ='규정 의회'!B33 -> 0 | E33: ='규정 직속'!B33 -> 0 | F33: ='규정 사업소'!B33 -> 0 | G33: ='규정 읍면'!C33 -> 0 | H33: ='규정 읍면'!B33-'규정 읍면'!C33 -> 0
A34: 보건 | B34: =SUM(C34:H34) -> 1 | C34: ='규정 본청'!B34 -> 0 | D34: ='규정 의회'!B34 -> 0 | E34: ='규정 직속'!B34 -> 1 | F34: ='규정 사업소'!B34 -> 0 | G34: ='규정 읍면'!C34 -> 0 | H34: ='규정 읍면'!B34-'규정 읍면'!C34 -> 0
A35: 보건진료 | B35: =SUM(C35:H35) -> 5 | C35: ='규정 본청'!B35 -> 0 | D35: ='규정 의회'!B35 -> 0 | E35: ='규정 직속'!B35 -> 5 | F35: ='규정 사업소'!B35 -> 0 | G35: ='규정 읍면'!C35 -> 0 | H35: ='규정 읍면'!B35-'규정 읍면'!C35 -> 0
A36: 행정·세무 | B36: =SUM(C36:H36) -> 3 | C36: ='규정 본청'!B36 -> 2 | D36: ='규정 의회'!B36 -> 0 | E36: ='규정 직속'!B36 -> 0 | F36: ='규정 사업소'!B36 -> 0 | G36: ='규정 읍면'!C36 -> 1 | H36: ='규정 읍면'!B36-'규정 읍면'!C36 -> 0
A37: 행정·사회복지 | B37: =SUM(C37:H37) -> 2 | C37: ='규정 본청'!B37 -> 2 | D37: ='규정 의회'!B37 -> 0 | E37: ='규정 직속'!B37 -> 0 | F37: ='규정 사업소'!B37 -> 0 | G37: ='규정 읍면'!C37 -> 0 | H37: ='규정 읍면'!B37-'규정 읍면'!C37 -> 0
... A62: 행정·세무·복지·농업 | B62: =SUM(C62:H62) -> 2 | C62: ='규정 본청'!B62 -> 0 | D62: ='규정 의회'!B62 -> 0 | E62: ='규정 직속'!B62 -> 0 | F62: ='규정 사업소'!B62 -> 0 | G62: ='규정 읍면'!C62 -> 0 | H62: ='규정 읍면'!B62-'규정 읍면'!C62 -> 2
A63: 7급 소계 | B63: =SUM(C63:H63) -> 156 | C63: =SUM(C64:C89) -> 90 | D63: =SUM(D64:D89) -> 2 | E63: =SUM(E64:E89) -> 22 | F63: =SUM(F64:F89) -> 5 | G63: =SUM(G64:G89) -> 6 | H63: =SUM(H64:H89) -> 31
A64: 행정 | B64: =SUM(C64:H64) -> 38 | C64: ='규정 본청'!B64 -> 32 | D64: ='규정 의회'!B64 -> 2 | E64: ='규정 직속'!B64 -> 0 | F64: ='규정 사업소'!B64 -> 4 | G64: ='규정 읍면'!C64 -> 0 | H64: ='규정 읍면'!B64-'규정 읍면'!C64 -> 0
A65: 세무 | B65: =SUM(C65:H65) -> 4 | C65: ='규정 본청'!B65 -> 4 | D65: ='규정 의회'!B65 -> 0 | E65: ='규정 직속'!B65 -> 0 | F65: ='규정 사업소'!B65 -> 0 | G65: ='규정 읍면'!C65 -> 0 | H65: ='규정 읍면'!B65-'규정 읍면'!C65 -> 0
A66: 사회복지 | B66: =SUM(C66:H66) -> 6 | C66: ='규정 본청'!B66 -> 4 | D66: ='규정 의회'!B66 -> 0 | E66: ='규정 직속'!B66 -> 0 | F66: ='규정 사업소'!B66 -> 0 | G66: ='규정 읍면'!C66 -> 1 | H66: 1
A67: 전산 | B67: =SUM(C67:H67) -> 2 | C67: ='규정 본청'!B67 -> 2 | D67: ='규정 의회'!B67 -> 0 | E67: ='규정 직속'!B67 -> 0 | F67: ='규정 사업소'!B67 -> 0 | G67: ='규정 읍면'!C67 -> 0 | H67: ='규정 읍면'!B67-'규정 읍면'!C67 -> 0
A68: 공업 | B68: =SUM(C68:H68) -> 1 | C68: ='규정 본청'!B68 -> 1 | D68: ='규정 의회'!B68 -> 0 | E68: ='규정 직속'!B68 -> 0 | F68: ='규정 사업소'!B68 -> 0 | G68: ='규정 읍면'!C68 -> 0 | H68: ='규정 읍면'!B68-'규정 읍면'!C68 -> 0
A69: 농업 | B69: =SUM(C69:H69) -> 5 | C69: ='규정 본청'!B69 -> 5 | D69: ='규정 의회'!B69 -> 0 | E69: ='규정 직속'!B69 -> 0 | F69: ='규정 사업소'!B69 -> 0 | G69: ='규정 읍면'!C69 -> 0 | H69: ='규정 읍면'!B69-'규정 읍면'!C69 -> 0
A70: 녹지 | B70: =SUM(C70:H70) -> 2 | C70: ='규정 본청'!B70 -> 2 | D70: ='규정 의회'!B70 -> 0 | E70: ='규정 직속'!B70 -> 0 | F70: ='규정 사업소'!B70 -> 0 | G70: ='규정 읍면'!C70 -> 0 | H70: ='규정 읍면'!B70-'규정 읍면'!C70 -> 0
A71: 수의 | B71: =SUM(C71:H71) -> 1 | C71: ='규정 본청'!B71 -> 1 | D71: ='규정 의회'!B71 -> 0 | E71: ='규정 직속'!B71 -> 0 | F71: ='규정 사업소'!B71 -> 0 | G71: ='규정 읍면'!C71 -> 0 | H71: ='규정 읍면'!B71-'규정 읍면'!C71 -> 0
A72: 보건 | B72: =SUM(C72:H72) -> 2 | C72: ='규정 본청'!B72 -> 0 | D72: ='규정 의회'!B72 -> 0 | E72: ='규정 직속'!B72 -> 2 | F72: ='규정 사업소'!B72 -> 0 | G72: ='규정 읍면'!C72 -> 0 | H72: ='규정 읍면'!B72-'규정 읍면'!C72 -> 0
A73: 보건진료 | B73: =SUM(C73:H73) -> 6 | C73: ='규정 본청'!B73 -> 0 | D73: ='규정 의회'!B73 -> 0 | E73: ='규정 직속'!B73 -> 6 | F73: ='규정 사업소'!B73 -> 0 | G73: ='규정 읍면'!C73 -> 0 | H73: ='규정 읍면'!B73-'규정 읍면'!C73 -> 0
A74: 의료기술 | B74: =SUM(C74:H74) -> 2 | C74: ='규정 본청'!B74 -> 0 | D74: ='규정 의회'!B74 -> 0 | E74: ='규정 직속'!B74 -> 2 | F74: ='규정 사업소'!B74 -> 0 | G74: ='규정 읍면'!C74 -> 0 | H74: ='규정 읍면'!B74-'규정 읍면'!C74 -> 0
A75: 시설 | B75: =SUM(C75:H75) -> 19 | C75: ='규정 본청'!B75 -> 17 | D75: ='규정 의회'!B75 -> 0 | E75: ='규정 직속'!B75 -> 0 | F75: ='규정 사업소'!B75 -> 1 | G75: ='규정 읍면'!C75 -> 1 | H75: ='규정 읍면'!B75-'규정 읍면'!C75 -> 0
A76: 행정·세무 | B76: =SUM(C76:H76) -> 4 | C76: ='규정 본청'!B76 -> 2 | D76: ='규정 의회'!B76 -> 0 | E76: ='규정 직속'!B76 -> 0 | F76: ='규정 사업소'!B76 -> 0 | G76: ='규정 읍면'!C76 -> 1 | H76: ='규정 읍면'!B76-'규정 읍면'!C76 -> 1
A77: 행정·전산 | B77: =SUM(C77:H77) -> 1 | C77: ='규정 본청'!B77 -> 1 | D77: ='규정 의회'!B77 -> 0 | E77: ='규정 직속'!B77 -> 0 | F77: ='규정 사업소'!B77 -> 0 | G77: ='규정 읍면'!C77 -> 0 | H77: ='규정 읍면'!B77-'규정 읍면'!C77 -> 0
A78: 행정·사회복지 | B78: =SUM(C78:H78) -> 12 | C78: ='규정 본청'!B78 -> 4 | D78: ='규정 의회'!B78 -> 0 | E78: ='규정 직속'!B78 -> 0 | F78: ='규정 사업소'!B78 -> 0 | G78: ='규정 읍면'!C78 -> 0 | H78: ='규정 읍면'!B78-'규정 읍면'!C78 -> 8
... A89: 행정·세무·농업 | B89: =SUM(C89:H89) -> 21 | C89: ='규정 본청'!B89 -> 0 | D89: ='규정 의회'!B89 -> 0 | E89: ='규정 직속'!B89 -> 0 | F89: ='규정 사업소'!B89 -> 0 | G89: ='규정 읍면'!C89 -> 0 | H89: ='규정 읍면'!B89-'규정 읍면'!C89 -> 21
A90: 8급 소계 | B90: =SUM(C90:H90) -> 122 | C90: =SUM(C91:C112) -> 58 | D90: =SUM(D91:D112) -> 1 | E90: =SUM(E91:E112) -> 23 | F90: =SUM(F91:F112) -> 1 | G90: =SUM(G91:G112) -> 4 | H90: =SUM(H91:H112) -> 35
A91: 행정 | B91: =SUM(C91:H91) -> 21 | C91: ='규정 본청'!B91 -> 19 | D91: ='규정 의회'!B91 -> 1 | E91: ='규정 직속'!B91 -> 0 | F91: ='규정 사업소'!B91 -> 1 | G91: ='규정 읍면'!C91 -> 0 | H91: ='규정 읍면'!B91-'규정 읍면'!C91 -> 0
A92: 세무 | B92: =SUM(C92:H92) -> 1 | C92: ='규정 본청'!B92 -> 1 | D92: ='규정 의회'!B92 -> 0 | E92: ='규정 직속'!B92 -> 0 | F92: ='규정 사업소'!B92 -> 0 | G92: ='규정 읍면'!C92 -> 0 | H92: ='규정 읍면'!B92-'규정 읍면'!C92 -> 0
A93: 사회복지 | B93: =SUM(C93:H93) -> 7 | C93: ='규정 본청'!B93 -> 5 | D93: ='규정 의회'!B93 -> 0 | E93: ='규정 직속'!B93 -> 0 | F93: ='규정 사업소'!B93 -> 0 | G93: ='규정 읍면'!C93 -> 0 | H93: ='규정 읍면'!B93-'규정 읍면'!C93 -> 2
A94: 공업 | B94: =SUM(C94:H94) -> 0 | C94: ='규정 본청'!B94 -> 0 | D94: ='규정 의회'!B94 -> 0 | E94: ='규정 직속'!B94 -> 0 | F94: ='규정 사업소'!B94 -> 0 | G94: ='규정 읍면'!C94 -> 0 | H94: ='규정 읍면'!B94-'규정 읍면'!C94 -> 0
A95: 농업 | B95: =SUM(C95:H95) -> 3 | C95: ='규정 본청'!B95 -> 3 | D95: ='규정 의회'!B95 -> 0 | E95: ='규정 직속'!B95 -> 0 | F95: ='규정 사업소'!B95 -> 0 | G95: ='규정 읍면'!C95 -> 0 | H95: ='규정 읍면'!B95-'규정 읍면'!C95 -> 0
A96: 녹지 | B96: =SUM(C96:H96) -> 3 | C96: ='규정 본청'!B96 -> 3 | D96: ='규정 의회'!B96 -> 0 | E96: ='규정 직속'!B96 -> 0 | F96: ='규정 사업소'!B96 -> 0 | G96: ='규정 읍면'!C96 -> 0 | H96: ='규정 읍면'!B96-'규정 읍면'!C96 -> 0
A97: 보건 | B97: =SUM(C97:H97) -> 2 | C97: ='규정 본청'!B97 -> 0 | D97: ='규정 의회'!B97 -> 0 | E97: ='규정 직속'!B97 -> 2 | F97: ='규정 사업소'!B97 -> 0 | G97: ='규정 읍면'!C98 -> 0 | H97: ='규정 읍면'!B98-'규정 읍면'!C98 -> 0
A98: 보건진료 | B98: =SUM(C98:H98) -> 4 | C98: ='규정 본청'!B98 -> 0 | D98: ='규정 의회'!B98 -> 0 | E98: ='규정 직속'!B98 -> 4 | F98: ='규정 사업소'!B98 -> 0 | G98: ='규정 읍면'!C99 -> 0 | H98: ='규정 읍면'!B99-'규정 읍면'!C99 -> 0
A99: 환경 | B99: =SUM(C99:H99) -> 2 | C99: ='규정 본청'!B99 -> 2 | D99: ='규정 의회'!B99 -> 0 | E99: ='규정 직속'!B99 -> 0 | F99: ='규정 사업소'!B99 -> 0 | G99: ='규정 읍면'!C99 -> 0 | H99: ='규정 읍면'!B99-'규정 읍면'!C99 -> 0
A100: 시설 | B100: =SUM(C100:H100) -> 21 | C100: ='규정 본청'!B100 -> 13 | D100: ='규정 의회'!B100 -> 0 | E100: ='규정 직속'!B100 -> 0 | F100: ='규정 사업소'!B100 -> 0 | G100: ='규정 읍면'!C100 -> 0 | H100: ='규정 읍면'!B100-'규정 읍면'!C100 -> 8
A101: 전산 | B101: =SUM(C101:H101) -> 1 | C101: ='규정 본청'!B101 -> 1 | D101: ='규정 의회'!B101 -> 0 | E101: ='규정 직속'!B101 -> 0 | F101: ='규정 사업소'!B101 -> 0 | G101: ='규정 읍면'!C101 -> 0 | H101: ='규정 읍면'!B101-'규정 읍면'!C101 -> 0
A102: 간호·의료기술 | B102: =SUM(C102:H102) -> 8 | C102: ='규정 본청'!B102 -> 0 | D102: ='규정 의회'!B102 -> 0 | E102: ='규정 직속'!B102 -> 8 | F102: ='규정 사업소'!B102 -> 0 | G102: ='규정 읍면'!C102 -> 0 | H102: ='규정 읍면'!B102-'규정 읍면'!C102 -> 0
A103: 행정·사회복지 | B103: =SUM(C103:H103) -> 7 | C103: ='규정 본청'!B103 -> 1 | D103: ='규정 의회'!B103 -> 0 | E103: ='규정 직속'!B103 -> 0 | F103: ='규정 사업소'!B103 -> 0 | G103: ='규정 읍면'!C103 -> 0 | H103: ='규정 읍면'!B103-'규정 읍면'!C103 -> 6
A104: 행정·시설 | B104: =SUM(C104:H104) -> 5 | C104: ='규정 본청'!B104 -> 4 | D104: ='규정 의회'!B104 -> 0 | E104: ='규정 직속'!B104 -> 0 | F104: ='규정 사업소'!B104 -> 0 | G104: ='규정 읍면'!C104 -> 1 | H104: ='규정 읍면'!B104-'규정 읍면'!C104 -> 0
A105: 행정·세무 | B105: =SUM(C105:H105) -> 6 | C105: ='규정 본청'!B105 -> 1 | D105: ='규정 의회'!B105 -> 0 | E105: ='규정 직속'!B105 -> 0 | F105: ='규정 사업소'!B105 -> 0 | G105: ='규정 읍면'!C105 -> 0 | H105: ='규정 읍면'!B105-'규정 읍면'!C105 -> 5
A106: 행정·공업 | B106: =SUM(C106:H106) -> 1 | C106: ='규정 본청'!B106 -> 1 | D106: ='규정 의회'!B106 -> 0 | E106: ='규정 직속'!B106 -> 0 | F106: ='규정 사업소'!B106 -> 0 | G106: ='규정 읍면'!C106 -> 0 | H106: ='규정 읍면'!B106-'규정 읍면'!C106 -> 0
A107: 행정·농업 | B107: =SUM(C107:H107) -> 19 | C107: ='규정 본청'!B107 -> 2 | D107: ='규정 의회'!B107 -> 0 | E107: ='규정 직속'!B107 -> 0 | F107: ='규정 사업소'!B107 -> 0 | G107: ='규정 읍면'!C107 -> 3 | H107: ='규정 읍면'!B107-'규정 읍면'!C107 -> 14
A108: 행정·전산 | B108: =SUM(C108:H108) -> 1 | C108: ='규정 본청'!B108 -> 1 | D108: ='규정 의회'!B108 -> 0 | E108: ='규정 직속'!B108 -> 0 | F108: ='규정 사업소'!B108 -> 0 | G108: ='규정 읍면'!C108 -> 0 | H108: ='규정 읍면'!B108-'규정 읍면'!C108 -> 0
A109: 보건·간호 | B109: =SUM(C109:H109) -> 9 | C109: ='규정 본청'!B109 -> 0 | D109: ='규정 의회'!B109 -> 0 | E109: ='규정 직속'!B109 -> 9 | F109: ='규정 사업소'!B109 -> 0 | G109: ='규정 읍면'!C109 -> 0 | H109: ='규정 읍면'!B109-'규정 읍면'!C109 -> 0
A110: 환경·공업 | B110: =SUM(C110:H110) -> 0 | C110: ='규정 본청'!B110 -> 0 | D110: ='규정 의회'!B112 -> 0 | E110: ='규정 직속'!B110 -> 0 | F110: ='규정 사업소'!B110 -> 0 | G110: ='규정 읍면'!C110 -> 0 | H110: ='규정 읍면'!B110-'규정 읍면'!C110 -> 0
A111: 공업·보건 | B111: =SUM(C111:H111) -> 0 | C111: ='규정 본청'!B111 -> 0 | D111: ='규정 의회'!B113 -> 0 | E111: ='규정 직속'!B111 -> 0 | F111: ='규정 사업소'!B111 -> 0 | G111: ='규정 읍면'!C111 -> 0 | H111: ='규정 읍면'!B111-'규정 읍면'!C111 -> 0
A112: 환경·보건 | B112: =SUM(C112:H112) -> 1 | C112: ='규정 본청'!B112 -> 1 | D112: ='규정 의회'!B112 -> 0 | E112: ='규정 직속'!B112 -> 0 | F112: ='규정 사업소'!B112 -> 0 | G112: ='규정 읍면'!C112 -> 0 | H112: ='규정 읍면'!B112-'규정 읍면'!C112 -> 0
A113: 9급 소계 | B113: =SUM(C113:H113) -> 52 | C113: =SUM(C114:C124) -> 15 | D113: =SUM(D114:D124) -> 0 | E113: =SUM(E114:E124) -> 8 | F113: =SUM(F114:F124) -> 0 | G113: =SUM(G114:G124) -> 4 | H113: =SUM(H114:H124) -> 25
A114: 행정 | B114: =SUM(C114:H114) -> 11 | C114: ='규정 본청'!B114 -> 7 | D114: ='규정 의회'!B114 -> 0 | E114: ='규정 직속'!B114 -> 0 | F114: ='규정 사업소'!B114 -> 0 | G114: ='규정 읍면'!C114 -> 1 | H114: ='규정 읍면'!B114-'규정 읍면'!C114 -> 3
A115: 사회복지 | B115: =SUM(C115:H115) -> 3 | C115: ='규정 본청'!B115 -> 1 | D115: ='규정 의회'!B115 -> 0 | E115: ='규정 직속'!B115 -> 0 | F115: ='규정 사업소'!B115 -> 0 | G115: ='규정 읍면'!C115 -> 1 | H115: ='규정 읍면'!B115-'규정 읍면'!C115 -> 1
A116: 공업 | B116: =SUM(C116:H116) -> 0 | C116: ='규정 본청'!B116 -> 0 | D116: ='규정 의회'!B116 -> 0 | E116: ='규정 직속'!B116 -> 0 | F116: ='규정 사업소'!B116 -> 0 | G116: ='규정 읍면'!C116 -> 0 | H116: ='규정 읍면'!B116-'규정 읍면'!C116 -> 0
A117: 농업 | B117: =SUM(C117:H117) -> 7 | C117: ='규정 본청'!B117 -> 3 | D117: ='규정 의회'!B117 -> 0 | E117: ='규정 직속'!B117 -> 0 | F117: ='규정 사업소'!B117 -> 0 | G117: ='규정 읍면'!C117 -> 0 | H117: ='규정 읍면'!B117-'규정 읍면'!C117 -> 4
A118: 녹지 | B118: =SUM(C118:H118) -> 0 | C118: ='규정 본청'!B118 -> 0 | D118: ='규정 의회'!B118 -> 0 | E118: ='규정 직속'!B118 -> 0 | F118: ='규정 사업소'!B118 -> 0 | G118: ='규정 읍면'!C118 -> 0 | H118: ='규정 읍면'!B118-'규정 읍면'!C118 -> 0
A119: 환경 | B119: =SUM(C119:H119) -> 1 | C119: ='규정 본청'!B119 -> 1 | D119: ='규정 의회'!B119 -> 0 | E119: ='규정 직속'!B119 -> 0 | F119: ='규정 사업소'!B119 -> 0 | G119: ='규정 읍면'!C119 -> 0 | H119: ='규정 읍면'!B119-'규정 읍면'!C119 -> 0
A120: 보건 | B120: =SUM(C120:H120) -> 8 | C120: ='규정 본청'!B120 -> 0 | D120: ='규정 의회'!B120 -> 0 | E120: ='규정 직속'!B120 -> 8 | F120: ='규정 사업소'!B120 -> 0 | G120: ='규정 읍면'!C120 -> 0 | H120: ='규정 읍면'!B120-'규정 읍면'!C120 -> 0
A121: 시설 | B121: =SUM(C121:H121) -> 5 | C121: ='규정 본청'!B121 -> 1 | D121: ='규정 의회'!B121 -> 0 | E121: ='규정 직속'!B121 -> 0 | F121: ='규정 사업소'!B121 -> 0 | G121: ='규정 읍면'!C121 -> 1 | H121: ='규정 읍면'!B121-'규정 읍면'!C121 -> 3
A122: 행정·세무 | B122: =SUM(C122:H122) -> 14 | C122: ='규정 본청'!B122 -> 1 | D122: ='규정 의회'!B122 -> 0 | E122: ='규정 직속'!B122 -> 0 | F122: ='규정 사업소'!B122 -> 0 | G122: ='규정 읍면'!C122 -> 1 | H122: ='규정 읍면'!B122-'규정 읍면'!C122 -> 12
A123: 행정·사회복지 | B123: =SUM(C123:H123) -> 3 | C123: ='규정 본청'!B123 -> 1 | D123: ='규정 의회'!B123 -> 0 | E123: ='규정 직속'!B123 -> 0 | F123: ='규정 사업소'!B123 -> 0 | G123: ='규정 읍면'!C123 -> 0 | H123: ='규정 읍면'!B123-'규정 읍면'!C123 -> 2
A124: 보건·환경 | B124: =SUM(C124:H124) -> 0 | C124: ='규정 본청'!B124 -> 0 | D124: ='규정 의회'!B124 -> 0 | E124: ='규정 직속'!B124 -> 0 | F124: ='규정 사업소'!B124 -> 0 | G124: ='규정 읍면'!C124 -> 0 | H124: ='규정 읍면'!B124-'규정 읍면'!C124 -> 0
A125: 별정직 계 | B125: =SUM(B126:B127) -> 1 | C125: =SUM(C126:C127) -> 0 | D125: =SUM(D126:D127) -> 0 | E125: =SUM(E126:E127) -> 1 | F125: =SUM(F126:F127) -> 0 | G125: =SUM(G126:G127) -> 0 | H125: =SUM(H126:H127) -> 0
A126: 비 서(6급상당) | B126: =SUM(C126:H126) -> 0 | C126: ='규정 본청'!B126 -> 0 | D126: ='규정 의회'!B126 -> 0 | E126: ='규정 직속'!B126 -> 0 | F126: ='규정 사업소'!B126 -> 0 | G126: ='규정 읍면'!C126 -> 0 | H126: ='규정 읍면'!B126-'규정 읍면'!C126 -> 0
A127: 농기계교육교관(7급상당) | B127: =SUM(C127:H127) -> 1 | C127: ='규정 본청'!B127 -> 0 | D127: ='규정 의회'!B127 -> 0 | E127: ='규정 직속'!B127 -> 1 | F127: ='규정 사업소'!B127 -> 0 | G127: ='규정 읍면'!C127 -> 0 | H127: ='규정 읍면'!B127-'규정 읍면'!C127 -> 0
A128: 연구직 계 | B128: =SUM(B129:B131) -> 6 | C128: =SUM(C129:C131) -> 2 | D128: =SUM(D129:D131) -> 0 | E128: =SUM(E129:E131) -> 0 | F128: =SUM(F129:F131) -> 4 | G128: =SUM(G129:G131) -> 0 | H128: =SUM(H129:H131) -> 0
A129: 학예연구사 | B129: =SUM(C129:H129) -> 1 | C129: ='규정 본청'!B129 -> 1 | D129: ='규정 의회'!B129 -> 0 | E129: ='규정 직속'!B129 -> 0 | F129: ='규정 사업소'!B129 -> 0 | G129: ='규정 읍면'!C129 -> 0 | H129: ='규정 읍면'!B129-'규정 읍면'!C129 -> 0
A130: 기록연구사 | B130: =SUM(C130:H130) -> 1 | C130: ='규정 본청'!B130 -> 1 | D130: ='규정 의회'!B130 -> 0 | E130: ='규정 직속'!B131 -> 0 | F130: ='규정 사업소'!B130 -> 0 | G130: ='규정 읍면'!C131 -> 0 | H130: ='규정 읍면'!B131-'규정 읍면'!C131 -> 0
A131: 농업연구사 | B131: =SUM(C131:H131) -> 4 | C131: ='규정 본청'!B131 -> 0 | D131: ='규정 의회'!B130 -> 0 | E131: ='규정 직속'!B131 -> 0 | F131: ='규정 사업소'!B131 -> 4 | G131: ='규정 읍면'!C131 -> 0 | H131: ='규정 읍면'!B131-'규정 읍면'!C131 -> 0
A132: 지도직 계 | B132: =SUM(B133:B134) -> 31 | C132: =SUM(C133:C134) -> 0 | D132: =SUM(D133:D134) -> 0 | E132: =SUM(E133:E134) -> 30 | F132: =SUM(F133:F134) -> 1 | G132: =SUM(G133:G134) -> 0 | H132: =SUM(H133:H134) -> 0
A133: 농촌지도관 | B133: =SUM(C133:H133) -> 3 | C133: ='규정 본청'!B133 -> 0 | D133: ='규정 의회'!B133 -> 0 | E133: ='규정 직속'!B133 -> 3 | F133: ='규정 사업소'!B133 -> 0 | G133: ='규정 읍면'!C133 -> 0 | H133: ='규정 읍면'!B133-'규정 읍면'!C133 -> 0
A134: 농촌지도사 | B134: =SUM(C134:H134) -> 28 | C134: ='규정 본청'!B134 -> 0 | D134: ='규정 의회'!B134 -> 0 | E134: ='규정 직속'!B134 -> 27 | F134: ='규정 사업소'!B134 -> 1 | G134: ='규정 읍면'!C134 -> 0 | H134: ='규정 읍면'!B134-'규정 읍면'!C134 -> 0
A135: 기능직 계 | B135: =B136+B141+B151+B163+B177 -> 80 | C135: =C136+C141+C151+C163+C177 -> 28 | D135: =D136+D141+D151+D163+D177 -> 3 | E135: =E136+E141+E151+E163+E177 -> 9 | F135: =F136+F141+F151+F163+F177 -> 12 | G135: =G136+G141+G151+G163+G177 -> 6 | H135: =H136+H141+H151+H163+H177 -> 22
...

Sheet 정원조례
A1: 【별표3】 <개정전>
A2: 예천군 직급별 지방공무원 정원표(조례 제4조와 관련)
A4: 기관별 직급별 | B4: 총계 | C4: 본청 | D4: 의회 | E4: 직속 기관 | F4: 사업소 | G4: 읍 | H4: 면
A5: 총 계 | B5: =B6+B8+B14+B16+B18+B21 -> 619 | C5: =C6+C8+C14+C16+C18+C21 -> 276 | D5: =D6+D8+D14+D16+D18+D21 -> 10 | E5: =E6+E8+E14+E16+E18+E21 -> 107 | F5: =F6+F8+F14+F16+F18+F21 -> 30 | G5: =G6+G8+G14+G16+G18+G21 -> 28 | H5: =H6+H8+H14+H16+H18+H21 -> 168
A6: 정무직 계 | B6: =B7 -> 1 | C6: =C7 -> 1 | D6: =D7 -> 0 | E6: =E7 -> 0 | F6: =F7 -> 0 | G6: =G7 -> 0 | H6: =H7 -> 0
A7: 군 수 | B7: =SUM(C7:H7) -> 1 | C7: =정원규칙!C7 -> 1 | D7: =정원규칙!D7 -> 0 | E7: =정원규칙!E7 -> 0 | F7: =정원규칙!F7 -> 0 | G7: =정원규칙!G7 -> 0 | H7: =정원규칙!H7 -> 0
A8: 일반직 계 | B8: =SUM(B9:B13) -> 500 | C8: =SUM(C9:C13) -> 245 | D8: =SUM(D9:D13) -> 7 | E8: =SUM(E9:E13) -> 67 | F8: =SUM(F9:F13) -> 13 | G8: =SUM(G9:G13) -> 22 | H8: =SUM(H9:H13) -> 146
A9: 4급 | B9: =SUM(C9:H9) -> 1 | C9: =정원규칙!C9 -> 1 | D9: =정원규칙!D9 -> 0 | E9: =정원규칙!E9 -> 0 | F9: =정원규칙!F9 -> 0 | G9: =정원규칙!G9 -> 0 | H9: =정원규칙!H9 -> 0
A10: 4급 내지 5급 | B10: =SUM(C10:H10) -> 3 | C10: =정원규칙!C11 -> 2 | D10: =정원규칙!D11 -> 0 | E10: =정원규칙!E11 -> 1 | F10: =정원규칙!F11 -> 0 | G10: =정원규칙!G11 -> 0 | H10: =정원규칙!H11 -> 0
A11: 5급 | B11: =SUM(C11:H11) -> 28 | C11: =정원규칙!C15-정원규칙!C21 -> 12 | D11: =정원규칙!D15-정원규칙!D21 -> 3 | E11: =정원규칙!E15-정원규칙!E21 -> 0 | F11: =정원규칙!F15-정원규칙!F21 -> 1 | G11: =정원규칙!G15-정원규칙!G21 -> 1 | H11: =정원규칙!H15-정원규칙!H21 -> 11
A12: 5급 내지 연구관 | B12: =SUM(C12:H12) -> 1 | C12: =정원규칙!C21 -> 0 | D12: =정원규칙!D21 -> 0 | E12: =정원규칙!E21 -> 0 | F12: =정원규칙!F21 -> 1 | G12: =정원규칙!G21 -> 0 | H12: =정원규칙!H21 -> 0
A13: 6급 이하 | B13: =SUM(C13:H13) -> 467 | C13: =정원규칙!C25+정원규칙!C63+정원규칙!C90+정원규칙!C113 -> 230 | D13: =정원규칙!D25+정원규칙!D63+정원규칙!D90+정원규칙!D113 -> 4 | E13: =정원규칙!E25+정원규칙!E63+정원규칙!E90+정원규칙!E113 -> 66 | F13: =정원규칙!F25+정원규칙!F63+정원규칙!F90+정원규칙!F113 -> 11 | G13: =정원규칙!G25+정원규칙!G63+정원규칙!G90+정원규칙!G113 -> 21 | H13: =정원규칙!H25+정원규칙!H63+정원규칙!H90+정원규칙!H113 -> 135
A14: 별정직 계 | B14: =SUM(B15:B15) -> 1 | C14: =SUM(C15:C15) -> 0 | D14: =SUM(D15:D15) -> 0 | E14: =SUM(E15:E15) -> 1 | F14: =SUM(F15:F15) -> 0 | G14: =SUM(G15:G15) -> 0 | H14: =SUM(H15:H15) -> 0
A15: 6급상당 이하 | B15: =SUM(C15:H15) -> 1 | C15: =정원규칙!C125 -> 0 | D15: =정원규칙!D125 -> 0 | E15: =정원규칙!E125 -> 1 | F15: =정원규칙!F125 -> 0 | G15: =정원규칙!G125 -> 0 | H15: =정원규칙!H125 -> 0
A16: 연구직 계 | B16: =SUM(B17:B17) -> 6 | C16: =SUM(C17:C17) -> 2 | D16: =SUM(D17:D17) -> 0 | E16: =SUM(E17:E17) -> 0 | F16: =SUM(F17:F17) -> 4 | G16: =SUM(G17:G17) -> 0 | H16: =SUM(H17:H17) -> 0
A17: 연구사 | B17: =SUM(C17:H17) -> 6 | C17: =정원규칙!C129+정원규칙!C130 +정원규칙!C131 -> 2 | D17: =정원규칙!D129+정원규칙!D131 -> 0 | E17: =정원규칙!E129+정원규칙!E131 -> 0 | F17: =정원규칙!F129+정원규칙!F131 -> 4 | G17: =정원규칙!G129+정원규칙!G131 -> 0 | H17: =정원규칙!H129+정원규칙!H131 -> 0
A18: 지도직 계 | B18: =SUM(B19:B20) -> 31 | C18: =SUM(C19:C20) -> 0 | D18: =SUM(D19:D20) -> 0 | E18: =SUM(E19:E20) -> 30 | F18: =SUM(F19:F20) -> 1 | G18: =SUM(G19:G20) -> 0 | H18: =SUM(H19:H20) -> 0
A19: 지도관 | B19: =SUM(C19:H19) -> 3 | C19: =정원규칙!C133 -> 0 | D19: =정원규칙!D133 -> 0 | E19: =정원규칙!E133 -> 3 | F19: =정원규칙!F133 -> 0 | G19: =정원규칙!G133 -> 0 | H19: =정원규칙!H133 -> 0
A20: 지도사 | B20: =SUM(C20:H20) -> 28 | C20: =정원규칙!C134 -> 0 | D20: =정원규칙!D134 -> 0 | E20: =정원규칙!E134 -> 27 | F20: =정원규칙!F134 -> 1 | G20: =정원규칙!G134 -> 0 | H20: =정원규칙!H134 -> 0
A21: 기능직 계 | B21: =SUM(B22:B22) -> 80 | C21: =SUM(C22:C22) -> 28 | D21: =SUM(D22:D22) -> 3 | E21: =SUM(E22:E22) -> 9 | F21: =SUM(F22:F22) -> 12 | G21: =SUM(G22:G22) -> 6 | H21: =SUM(H22:H22) -> 22
A22: 기능 6급 이하 | B22: =SUM(C22:H22) -> 80 | C22: =정원규칙!C136+정원규칙!C141+정원규칙!C151+정원규칙!C163+정원규칙!C177 -> 28 | D22: =정원규칙!D136+정원규칙!D141+정원규칙!D151+정원규칙!D163+정원규칙!D177 -> 3 | E22: =정원규칙!E136+정원규칙!E141+정원규칙!E151+정원규칙!E163+정원규칙!E177 -> 9 | F22: =정원규칙!F136+정원규칙!F141+정원규칙!F151+정원규칙!F163+정원규칙!F177 -> 12 | G22: =정원규칙!G136+정원규칙!G141+정원규칙!G151+정원규칙!G163+정원규칙!G177 -> 6 | H22: =정원규칙!H136+정원규칙!H141+정원규칙!H151+정원규칙!H163+정원규칙!H177 -> 22
