Workbook

Sheet 규정 본청
A1: 【별표2】 <개정전>
A2: 예천군 본청 정원표(규정 제2조와 관련)
A4: 기관별 직급별 | B4: 총계 | C4: 기획 감사 실 | D4: 주민 생활 지원 과 | E4: 총무과 | F4: 재무과 | G4: 새마을경제과 | H4: 종합 민원 과 | I4: 문화 관광 과 | J4: 환경 관리 과 | K4: 농정과 | L4: 산림 축산 과 | M4: 건설 과 | N4: 재난 관리 과 | O4: 정책 기획 단 | P4: 도청이전지원단
A5: 총 계 | B5: =B6+B8+B125+B135+B128+B132 -> 276 | C5: =C6+C8+C125+C135+C128+C132 -> 19 | D5: =D6+D8+D125+D135+D128+D132 -> 24 | E5: =E6+E8+E125+E135+E128+E132 -> 28 | F5: =F6+F8+F125+F135+F128+F132 -> 29 | G5: =G6+G8+G125+G135+G128+G132 -> 20 | H5: =H6+H8+H125+H135+H128+H132 -> 25 | I5: =I6+I8+I125+I135+I128+I132 -> 16 | ... P5: =P6+P8+P125+P135+P128+P132 -> 10
A6: 정무직 계 | B6: =B7 -> 1 | C6: =C7 -> 0 | D6: =D7 -> 0 | E6: =E7 -> 1 | F6: =F7 -> 0 | G6: =G7 -> 0 | H6: =H7 -> 0 | I6: =I7 -> 0 | ... P6: =P7 -> 0
A7: 정무직 | B7: =SUM(C7:P7) -> 1 | E7: 1
A8: 일반직 계 | B8: =SUM(C8:P8) -> 245 | C8: =C9+C11+C15+C25+C63+C113+C90 -> 16 | D8: =D9+D11+D15+D25+D63+D113+D90 -> 23 | E8: =E9+E11+E15+E25+E63+E113+E90 -> 20 | F8: =F9+F11+F15+F25+F63+F113+F90 -> 24 | G8: =G9+G11+G15+G25+G63+G113+G90 -> 19 | H8: =H9+H11+H15+H25+H63+H113+H90 -> 24 | I8: =I9+I11+I15+I25+I63+I113+I90 -> 12 | J8: =J9+J11+J15+J25+J63+J113+J90 -> 16 | ... P8: =P9+P11+P15+P25+P63+P113+P90 -> 10
A9: 4급 소계 | B9: =B10 -> 1 | C9: =C10 -> 1 | D9: =D10 -> 0 | E9: =E10 -> 0 | F9: =F10 -> 0 | G9: =G10 -> 0 | H9: =H10 -> 0 | I9: =I10 -> 0 | ... P9: =P10 -> 0
A10: 4급 | B10: =SUM(C10:P10) -> 1 | C10: 1
A11: 4급 내지 5급 소계 | B11: =SUM(B12:B14) -> 2 | C11: =SUM(C12:C14) -> 1 | D11: =SUM(D12:D14) -> 1 | E11: =SUM(E12:E14) -> 0 | F11: =SUM(F12:F14) -> 0 | G11: =SUM(G12:G14) -> 0 | H11: =SUM(H12:H14) -> 0 | I11: =SUM(I12:I14) -> 0 | ... P11: =SUM(P12:P14) -> 0
A12: 행정4급 내지 행정5급 | B12: =SUM(C12:P12) -> 1 | C12: 1
A13: 행정4급 내지 행정·복지5급 | B13: =SUM(C13:H13) -> 1 | D13: 1
A14: 기술4급·보건5급·간호5급 | B14: =SUM(C14:P14) -> 0
A15: 5급 소계 | B15: =SUM(B16:B24) -> 12 | C15: =SUM(C16:C24) -> 0 | D15: =SUM(D16:D24) -> 0 | E15: =SUM(E16:E24) -> 1 | F15: =SUM(F16:F24) -> 1 | G15: =SUM(G16:G24) -> 1 | H15: =SUM(H16:H24) -> 1 | I15: =SUM(I16:I24) -> 1 | ... P15: =SUM(P16:P24) -> 1
A16: 행정 | B16: =SUM(C16:P16) -> 6 | E16: 1 | F16: 1 | G16: 1 | I16: 1 | O16: 1 | P16: 1
A17: 시설 | B17: =SUM(C17:P17) -> 1 | M17: 1
A18: 행정·사회복지 | B18: =SUM(C18:P18) -> 0
A19: 행정·농업 | B19: =SUM(C19:P19) -> 1 | K19: 1
A20: 행정·시설 | B20: =SUM(C20:P20) -> 2 | H20: 1 | N20: 1
A21: 행정·농업연구관 | B21: =SUM(C21:P21) -> 0
A22: 행정·농업·녹지 | B22: =SUM(C22:P22) -> 1 | L22: 1
A23: 행정·농업·시설 | B23: =SUM(C23:P23) -> 0
A24: 행정·환경·시설 | B24: =SUM(C24:P24) -> 1 | J24: 1
A25: 6급 소계 | B25: =SUM(C25:P25) -> 67 | C25: =SUM(C26:C62) -> 5 | D25: =SUM(D26:D62) -> 5 | E25: =SUM(E26:E62) -> 6 | F25: =SUM(F26:F62) -> 6 | G25: =SUM(G26:G62) -> 4 | H25: =SUM(H26:H62) -> 6 | I25: =SUM(I26:I62) -> 4 | J25: =SUM(J26:J62) -> 5 | ... P25: =SUM(P26:P62) -> 2
A26: 행정 | B26: =SUM(C26:P26) -> 25 | C26: 5 | D26: 3 | E26: 4 | F26: 1 | G26: 3 | H26: 1 | I26: 3 | K26: 0 | M26: 1 | N26: 1 | O26: 2 | P26: 1
A27: 세무 | B27: =SUM(C27:P27) -> 2 | F27: 2
A28: 사회복지 | B28: =SUM(C28:P28) -> 0 | D28: 0
A29: 전산 | B29: =SUM(C29:P29) -> 0
A30: 농업 | B30: =SUM(C30:P30) -> 3 | K30: 3
A31: 녹지 | B31: =SUM(C31:P31) -> 2 | L31: 2
A32: 시설 | B32: =SUM(C32:P32) -> 5 | H32: 1 | M32: 2 | N32: 1 | P32: 1
A33: 수의 | B33: =SUM(C33:P33) -> 0
A34: 보건 | B34: =SUM(C34:P34) -> 0
A35: 보건진료 | B35: =SUM(C35:P35) -> 0
A36: 행정·세무 | B36: =SUM(C36:P36) -> 2 | F36: 2
A37: 행정·사회복지 | B37: =SUM(C37:P37) -> 2 | D37: 2
A38: 행정·전산 | B38: =SUM(C38:P38) -> 1 | E38: 1
A39: 행정·농업 | B39: =SUM(C39:P39) -> 3 | K39: 3
A40: 행정·녹지 | B40: =SUM(C40:P40) -> 0
A41: 행정·공업 | B41: =SUM(C41:P41) -> 1 | G41: 1
...

Sheet 규정 의회
A1: 【별표3】
A2: 예천군 의회 정원표(규정 제2조와 관련)
A4: 기관별 직급별 | B4: 총계 | C4: 의회 | D4: 비 고
A5: 총 계 | B5: =B6+B8+B125+B135+B128+B132 -> 10 | C5: =C6+C8+C125+C135+C128+C132 -> 10
A6: 정무직 계 | B6: =B7 -> 0 | C6: =C7 -> 0
A7: 정무직 | B7: =SUM(C7:C7) -> 0
A8: 일반직 계 | B8: =B9+B11+B15+B25+B63+B90+B113 -> 7 | C8: =C9+C11+C15+C25+C63+C113+C90 -> 7
A9: 4급 소계 | B9: =B10 -> 0 | C9: =C10 -> 0
A10: 4급 | B10: =SUM(C10:C10) -> 0
A11: 4급 내지 5급 소계 | B11: =SUM(B12:B14) -> 0 | C11: =SUM(C12:C14) -> 0
A12: 행정4급 내지 행정5급 | B12: =SUM(C12:C12) -> 0
A13: 행정4급 내지 행정·복지5급 | B13: =SUM(C13:D13) -> 0
A14: 기술4급·보건5급·간호5급 | B14: =SUM(C14:C14) -> 0
A15: 5급 소계 | B15: =SUM(B16:B24) -> 3 | C15: =SUM(C16:C24) -> 3
A16: 행정 | B16: =SUM(C16:C16) -> 3 | C16: 3
A17: 시설 | B17: =SUM(C17:C17) -> 0
A18: 행정·사회복지 | B18: =SUM(C18:C18) -> 0
A19: 행정·농업 | B19: =SUM(C19:C19) -> 0
A20: 행정·시설 | B20: =SUM(C20:C20) -> 0
A21: 행정·농업연구관 | B21: =SUM(C21:C21) -> 0
A22: 행정·농업·녹지 | B22: =SUM(C22:C22) -> 0
A23: 행정·농업·시설 | B23: =SUM(C23:C23) -> 0
A24: 행정·환경·시설 | B24: =SUM(C24:C24) -> 0
A25: 6급 소계 | B25: =SUM(C25:C25) -> 1 | C25: =SUM(C26:C62) -> 1
A26: 행정 | B26: =SUM(C26:C26) -> 1 | C26: 1
A27: 세무 | B27: =SUM(C27:C27) -> 0
A28: 사회복지 | B28: =SUM(C28:C28) -> 0
A29: 전산 | B29: =SUM(C29:C29) -> 0
A30: 농업 | B30: =SUM(C30:C30) -> 0
A31: 녹지 | B31: =SUM(C31:C31) -> 0
A32: 시설 | B32: =SUM(C32:C32) -> 0
A33: 수의 | B33: =SUM(C33:C33) -> 0
A34: 보건 | B34: =SUM(C34:C34) -> 0
A35: 보건진료 | B35: =SUM(C35:C35) -> 0
A36: 행정·세무 | B36: =SUM(C36:C36) -> 0
A37: 행정·사회복지 | B37: =SUM(C37:C37) -> 0
A38: 행정·전산 | B38: =SUM(C38:C38) -> 0
... A59: 보건·간호·약무 | B59: =SUM(C59:C59) -> 0
A60: 행정·복지·농업·보건 | B60: =SUM(C60:D60) -> 0
A61: 행정·복지·농업·간호 | B61: =SUM(C61:D61) -> 0
...

Sheet 규정 직속
A1: 【별표4】 <개정전>
A2: 예천군 직속기관 정원표(규정 제2조와 관련)
A4: 기관별 직급별 | B4: 총계 | C4: 보 건 소 | D4: 농업기술센터
A5: 총 계 | B5: =B6+B8+B125+B135+B128+B132 -> 107 | C5: =C6+C8+C125+C135+C128+C132 -> 73 | D5: =D6+D8+D125+D135+D128+D132 -> 34
A6: 정무직 계 | B6: =B7 -> 0 | C6: =C7 -> 0 | D6: =D7 -> 0
A7: 정무직 | B7: =SUM(C7:D7) -> 0
A8: 일반직 계 | B8: =B9+B11+B15+B25+B63+B90+B113 -> 67 | C8: =C9+C11+C15+C25+C63+C113+C90 -> 67 | D8: =D9+D11+D15+D25+D63+D113+D90 -> 0
A9: 4급 소계 | B9: =B10 -> 0 | C9: =C10 -> 0 | D9: =D10 -> 0
A10: 4급 | B10: =SUM(C10:D10) -> 0
A11: 4급 내지 5급 소계 | B11: =SUM(B12:B14) -> 1 | C11: =SUM(C12:C14) -> 1 | D11: =SUM(D12:D14) -> 0
A12: 행정4급 내지 행정5급 | B12: =SUM(C12:D12) -> 0
A13: 행정4급 내지 행정·복지5급 | B13: =SUM(C13:D13) -> 0
A14: 기술4급·보건5급·간호5급 | B14: =SUM(C14:D14) -> 1 | C14: 1
A15: 5급 소계 | B15: =SUM(B16:B24) -> 0 | C15: =SUM(C16:C24) -> 0 | D15: =SUM(D16:D24) -> 0
A16: 행정 | B16: =SUM(C16:D16) -> 0
A17: 시설 | B17: =SUM(C17:D17) -> 0
A18: 행정·사회복지 | B18: =SUM(C18:D18) -> 0
A19: 행정·농업 | B19: =SUM(C19:D19) -> 0
A20: 행정·시설 | B20: =SUM(C20:D20) -> 0
A21: 행정·농업연구관 | B21: =SUM(C21:D21) -> 0
A22: 행정·농업·녹지 | B22: =SUM(C22:D22) -> 0
A23: 행정·농업·시설 | B23: =SUM(C23:D23) -> 0
A24: 행정·환경·시설 | B24: =SUM(C24:D24) -> 0
A25: 6급 소계 | B25: =SUM(C25:D25) -> 13 | C25: =SUM(C26:C62) -> 13 | D25: =SUM(D26:D62) -> 0
A26: 행정 | B26: =SUM(C26:D26) -> 0
A27: 세무 | B27: =SUM(C27:D27) -> 0
A28: 사회복지 | B28: =SUM(C28:D28) -> 0
A29: 전산 | B29: =SUM(C29:D29) -> 0
A30: 농업 | B30: =SUM(C30:D30) -> 0
A31: 녹지 | B31: =SUM(C31:D31) -> 0
A32: 시설 | B32: =SUM(C32:D32) -> 0
A33: 수의 | B33: =SUM(C33:D33) -> 0
A34: 보건 | B34: =SUM(C34:D34) -> 1 | C34: 1
A35: 보건진료 | B35: =SUM(C35:D35) -> 5 | C35: 5
A36: 행정·세무 | B36: =SUM(C36:D36) -> 0
A37: 행정·사회복지 | B37: =SUM(C37:D37) -> 0
A38: 행정·전산 | B38: =SUM(C38:D38) -> 0
A39: 행정·농업 | B39: =SUM(C39:D39) -> 0
A40: 행정·녹지 | B40: =SUM(C40:D40) -> 0
A41: 행정·공업 | B41: =SUM(C41:D41) -> 0
...

Sheet 규정 사업소
A1: 【별표5】
A2: 예천군 사업소 정원표(규정 제2조와 관련)
A4: 기관별 직급별 | B4: 총계 | C4: 문화체육사업소 | D4: 곤충연구소
A5: 총 계 | B5: =B6+B8+B125+B135+B128+B132 -> 30 | C5: =C6+C8+C125+C135+C128+C132 -> 19 | D5: =D6+D8+D125+D135+D128+D132 -> 11
A6: 정무직 계 | B6: =B7 -> 0 | C6: =C7 -> 0 | D6: =D7 -> 0
A7: 정무직 | B7: =SUM(C7:D7) -> 0
A8: 일반직 계 | B8: =B9+B11+B15+B25+B63+B90+B113 -> 13 | C8: =C9+C11+C15+C25+C63+C113+C90 -> 9 | D8: =D9+D11+D15+D25+D63+D113+D90 -> 4
A9: 4급 소계 | B9: =B10 -> 0 | C9: =C10 -> 0 | D9: =D10 -> 0
A10: 4급 | B10: =SUM(C10:D10) -> 0
A11: 4급 내지 5급 소계 | B11: =SUM(B12:B14) -> 0 | C11: =SUM(C12:C14) -> 0 | D11: =SUM(D12:D14) -> 0
A12: 행정4급 내지 행정5급 | B12: =SUM(C12:D12) -> 0
A13: 행정4급 내지 행정·복지5급 | B13: =SUM(C13:D13) -> 0
A14: 기술4급·보건5급·간호5급 | B14: =SUM(C14:D14) -> 0
A15: 5급 소계 | B15: =SUM(B16:B24) -> 2 | C15: =SUM(C16:C24) -> 1 | D15: =SUM(D16:D24) -> 1
A16: 행정 | B16: =SUM(C16:D16) -> 0
A17: 시설 | B17: =SUM(C17:D17) -> 0
A18: 행정·사회복지 | B18: =SUM(C18:D18) -> 0
A19: 행정·농업 | B19: =SUM(C19:D19) -> 0
A20: 행정·시설 | B20: =SUM(C20:D20) -> 1 | C20: 1
A21: 행정·농업연구관 | B21: =SUM(C21:D21) -> 1 | D21: 1
A22: 행정·농업·녹지 | B22: =SUM(C22:D22) -> 0
A23: 행정·농업·시설 | B23: =SUM(C23:D23) -> 0
A24: 행정·환경·시설 | B24: =SUM(C24:D24) -> 0
A25: 6급 소계 | B25: =SUM(C25:D25) -> 5 | C25: =SUM(C26:C62) -> 4 | D25: =SUM(D26:D62) -> 1
A26: 행정 | B26: =SUM(C26:D26) -> 4 | C26: 3 | D26: 1
A27: 세무 | B27: =SUM(C27:D27) -> 0
A28: 사회복지 | B28: =SUM(C28:D28) -> 0
A29: 전산 | B29: =SUM(C29:D29) -> 0
A30: 농업 | B30: =SUM(C30:D30) -> 0
A31: 녹지 | B31: =SUM(C31:D31) -> 0
A32: 시설 | B32: =SUM(C32:D32) -> 0
A33: 수의 | B33: =SUM(C33:D33) -> 0
A34: 보건 | B34: =SUM(C34:D34) -> 0
A35: 보건진료 | B35: =SUM(C35:D35) -> 0
A36: 행정·세무 | B36: =SUM(C36:D36) -> 0
A37: 행정·사회복지 | B37: =SUM(C37:D37) -> 0
A38: 행정·전산 | B38: =SUM(C38:D38) -> 0
... A44: 행정·보건 | B44: =SUM(C44:D44) -> 0
A45: 행정·통신 | B45: =SUM(C45:D45) -> 1 | C45: 1
A46: 전산·통신 | B46: =SUM(C46:D46) -> 0
...

Sheet 규정 읍면
A1: 【별표6】
A2: 예천군 읍면 정원표(규정 제2조와 관련)
A4: 기관별 직급별 | B4: 총계 | C4: 예천읍 | D4: 용문면 | E4: 상리면 | F4: 하리면 | G4: 감천면 | H4: 보문면 | I4: 호명면 | J4: 유천면 | K4: 용궁면 | L4: 개포면 | M4: 지보면 | N4: 풍양면
A5: 총 계 | B5: =B6+B8+B125+B135+B128+B132 -> 196 | C5: =C6+C8+C125+C135+C128+C132 -> 28 | D5: =D6+D8+D125+D135+D128+D132 -> 15 | E5: =E6+E8+E125+E135+E128+E132 -> 14 | F5: =F6+F8+F125+F135+F128+F132 -> 14 | G5: =G6+G8+G125+G135+G128+G132 -> 16 | H5: =H6+H8+H125+H135+H128+H132 -> 15 | I5: =I6+I8+I125+I135+I128+I132 -> 16 | ... N5: =N6+N8+N125+N135+N128+N132 -> 17
A6: 정무직 계 | B6: =B7 -> 0 | C6: =C7 -> 0 | D6: =D7 -> 0 | E6: =E7 -> 0 | F6: =F7 -> 0 | G6: =G7 -> 0 | H6: =H7 -> 0 | I6: =I7 -> 0 | ... N6: =N7 -> 0
A7: 정무직 | B7: =SUM(C7:N7) -> 0
A8: 일반직 계 | B8: =B9+B11+B15+B25+B63+B90+B113 -> 168 | C8: =C9+C11+C15+C25+C63+C113+C90 -> 22 | D8: =D9+D11+D15+D25+D63+D113+D90 -> 13 | E8: =E9+E11+E15+E25+E63+E113+E90 -> 12 | F8: =F9+F11+F15+F25+F63+F113+F90 -> 12 | G8: =G9+G11+G15+G25+G63+G113+G90 -> 14 | H8: =H9+H11+H15+H25+H63+H113+H90 -> 13 | I8: =I9+I11+I15+I25+I63+I113+I90 -> 14 | J8: =J9+J11+J15+J25+J63+J113+J90 -> 14 | ... N8: =N9+N11+N15+N25+N63+N113+N90 -> 15
A9: 4급 소계 | B9: =B10 -> 0 | C9: =C10 -> 0 | D9: =D10 -> 0 | E9: =E10 -> 0 | F9: =F10 -> 0 | G9: =G10 -> 0 | H9: =H10 -> 0 | I9: =I10 -> 0 | ... N9: =N10 -> 0
A10: 4급 | B10: =SUM(C10:N10) -> 0
A11: 4급 내지 5급 소계 | B11: =SUM(B12:B14) -> 0 | C11: =SUM(C12:C14) -> 0 | D11: =SUM(D12:D14) -> 0 | E11: =SUM(E12:E14) -> 0 | F11: =SUM(F12:F14) -> 0 | G11: =SUM(G12:G14) -> 0 | H11: =SUM(H12:H14) -> 0 | I11: =SUM(I12:I14) -> 0 | ... N11: =SUM(N12:N14) -> 0
A12: 행정4급 내지 행정5급 | B12: =SUM(C12:N12) -> 0
A13: 행정4급 내지 행정·복지5급 | B13: =SUM(C13:H13) -> 0
A14: 기술4급·보건5급·간호5급 | B14: =SUM(C14:N14) -> 0
A15: 5급 소계 | B15: =SUM(B16:B24) -> 12 | C15: =SUM(C16:C24) -> 1 | D15: =SUM(D16:D24) -> 1 | E15: =SUM(E16:E24) -> 1 | F15: =SUM(F16:F24) -> 1 | G15: =SUM(G16:G24) -> 1 | H15: =SUM(H16:H24) -> 1 | I15: =SUM(I16:I24) -> 1 | ... N15: =SUM(N16:N24) -> 1
A16: 행정 | B16: =SUM(C16:N16) -> 0
A17: 시설 | B17: =SUM(C17:N17) -> 0
A18: 행정·사회복지 | B18: =SUM(C18:N18) -> 0
A19: 행정·농업 | B19: =SUM(C19:N19) -> 4 | D19: 1 | J19: 1 | M19: 1 | N19: 1
A20: 행정·시설 | B20: =SUM(C20:N20) -> 1 | G20: 1
A21: 행정·농업연구관 | B21: =SUM(C21:N21) -> 0
A22: 행정·농업·녹지 | B22: =SUM(C22:N22) -> 1 | E22: 1
A23: 행정·농업·시설 | B23: =SUM(C23:N23) -> 6 | C23: 1 | F23: 1 | H23: 1 | I23: 1 | K23: 1 | L23: 1
A24: 행정·환경·시설 | B24: =SUM(C24:N24) -> 0
A25: 6급 소계 | B25: =SUM(C25:N25) -> 51 | C25: =SUM(C26:C62) -> 7 | D25: =SUM(D26:D62) -> 4 | E25: =SUM(E26:E62) -> 4 | F25: =SUM(F26:F62) -> 4 | G25: =SUM(G26:G62) -> 4 | H25: =SUM(H26:H62) -> 4 | I25: =SUM(I26:I62) -> 4 | J25: =SUM(J26:J62) -> 4 | ... N25: =SUM(N26:N62) -> 4
A26: 행정 | B26: =SUM(C26:N26) -> 0
A27: 세무 | B27: =SUM(C27:N27) -> 0
A28: 사회복지 | B28: =SUM(C28:N28) -> 1 | C28: 1
A29: 전산 | B29: =SUM(C29:N29) -> 0
A30: 농업 | B30: =SUM(C30:N30) -> 0
A31: 녹지 | B31: =SUM(C31:N31) -> 0
A32: 시설 | B32: =SUM(C32:N32) -> 1 | C32: 1
A33: 수의 | B33: =SUM(C33:N33) -> 0
A34: 보건 | B34: =SUM(C34:N34) -> 0
A35: 보건진료 | B35: =SUM(C35:N35) -> 0
A36: 행정·세무 | B36: =SUM(C36:N36) -> 1 | C36: 1
A37: 행정·사회복지 | B37: =SUM(C37:N37) -> 0 | C37: 0
A38: 행정·전산 | B38: =SUM(C38:N38) -> 0
A39: 행정·농업 | B39: =SUM(C39:N39) -> 1 | C39: 1
A40: 행정·녹지 | B40: =SUM(C40:N40) -> 0
A41: 행정·공업 | B41: =SUM(C41:N41) -> 0
...

Sheet 정원규칙
A1: 【별표1】 <개정전>
A2: 예천군 직렬별 지방공무원 정원표(규칙 제2조와 관련)
A4: 기관별 직급별 | B4: 총계 | C4: 본청 | D4: 의회 | E4: 직속 기관 | F4: 사업소 | G4: 읍 | H4: 면
A5: 총 계 | B5: =B6+B8+B125+B135+B128+B132 -> 619 | C5: =C6+C8+C125+C135+C128+C132 -> 276 | D5: =D6+D8+D125+D135+D128+D132 -> 10 | E5: =E6+E8+E125+E135+E128+E132 -> 107 | F5: =F6+F8+F125+F135+F128+F132 -> 30 | G5: =G6+G8+G125+G135+G128+G132 -> 28 | H5: =H6+H8+H125+H135+H128+H132 -> 168
A6: 정무직 계 | B6: =B7 -> 1 | C6: =C7 -> 1 | D6: =D7 -> 0 | E6: =E7 -> 0 | F6: =F7 -> 0 | G6: =G7 -> 0 | H6: =H7 -> 0
A7: 정무직 | B7: =SUM(C7:H7) -> 1 | C7: ='규정 본청'!B7 -> 1 | D7: ='규정 의회'!B7 -> 0 | E7: ='규정 직속'!B7 -> 0 | F7: ='규정 사업소'!B7 -> 0 | G7: ='규정 읍면'!C7 -> 0 | H7: ='규정 읍면'!B7-'규정 읍면'!C7 -> 0
A8: 일반직 계 | B8: =B9+B11+B15+B25+B63+B90+B113 -> 500 | C8: =C9+C11+C15+C25+C63+C113+C90 -> 245 | D8: =D9+D11+D15+D25+D63+D113+D90 -> 7 | E8: =E9+E11+E15+E25+E63+E113+E90 -> 67 | F8: =F9+F11+F15+F25+F63+F113+F90 -> 13 | G8: =G9+G11+G15+G25+G63+G113+G90 -> 22 | H8: =H9+H11+H15+H25+H63+H113+H90 -> 146
A9: 4급 소계 | B9: =B10 -> 1 | C9: =C10 -> 1 | D9: =D10 -> 0 | E9: =E10 -> 0 | F9: =F10 -> 0 | G9: =G10 -> 0 | H9: =H10 -> 0
A10: 4급 | B10: =SUM(C10:H10) -> 1 | C10: ='규정 본청'!B10 -> 1 | D10: ='규정 의회'!B10 -> 0 | E10: ='규정 직속'!B10 -> 0 | F10: ='규정 사업소'!B10 -> 0 | G10: ='규정 읍면'!C10 -> 0 | H10: ='규정 읍면'!B10-'규정 읍면'!C10 -> 0
A11: 4급 내지 5급 소계 | B11: =SUM(B12:B14) -> 3 | C11: =SUM(C12:C14) -> 2 | D11: =SUM(D12:D14) -> 0 | E11: =SUM(E12:E14) -> 1 | F11: =SUM(F12:F14) -> 0 | G11: =SUM(G12:G14) -> 0 | H11: =SUM(H12:H14) -> 0
A12: 행정4급 내지 행정5급 | B12: =SUM(C12:H12) -> 1 | C12: ='규정 본청'!B12 -> 1 | D12: ='규정 의회'!B12 -> 0 | E12: ='규정 직속'!B12 -> 0 | F12: ='규정 사업소'!B12 -> 0 | G12: ='규정 읍면'!C12 -> 0 | H12: ='규정 읍면'!B12-'규정 읍면'!C12 -> 0
A13: 행정4급 내지 행정·복지5급 | B13: =SUM(C13:H13) -> 1 | C13: ='규정 본청'!B13 -> 1 | D13: ='규정 의회'!B12 -> 0 | E13: ='규정 직속'!B12 -> 0 | F13: ='규정 사업소'!B12 -> 0 | G13: ='규정 읍면'!C12 -> 0 | H13: ='규정 읍면'!B12-'규정 읍면'!C12 -> 0
A14: 기술4급·보건5급·간호5급 | B14: =SUM(C14:H14) -> 1 | C14: ='규정 본청'!B14 -> 0 | D14: ='규정 의회'!B14 -> 0 | E14: ='규정 직속'!B14 -> 1 | F14: ='규정 사업소'!B14 -> 0 | G14: ='규정 읍면'!C14 -> 0 | H14: ='규정 읍면'!B14-'규정 읍면'!C14 -> 0
A15: 5급 소계 | B15: =SUM(B16:B24) -> 29 | C15: =SUM(C16:C24) -> 12 | D15: =SUM(D16:D24) -> 3 | E15: =SUM(E16:E24) -> 0 | F15: =SUM(F16:F24) -> 2 | G15: =SUM(G16:G24) -> 1 | H15: =SUM(H16:H24) -> 11
A16: 행정 | B16: =SUM(C16:H16) -> 9 | C16: ='규정 본청'!B16 -> 6 | D16: ='규정 의회'!B16 -> 3 | E16: ='규정 직속'!B16 -> 0 | F16: ='규정 사업소'!B16 -> 0 | G16: ='규정 읍면'!C16 -> 0 | H16: ='규정 읍면'!B16-'규정 읍면'!C16 -> 0
A17: 시설 | B17: =SUM(C17:H17) -> 1 | C17: ='규정 본청'!B17 -> 1 | D17: ='규정 의회'!B17 -> 0 | E17: ='규정 직속'!B17 -> 0 | F17: ='규정 사업소'!B17 -> 0 | G17: ='규정 읍면'!C17 -> 0 | H17: ='규정 읍면'!B17-'규정 읍면'!C17 -> 0
A18: 행정·사회복지 | B18: =SUM(C18:H18) -> 0 | C18: ='규정 본청'!B18 -> 0 | D18: ='규정 의회'!B18 -> 0 | E18: ='규정 직속'!B18 -> 0 | F18: ='규정 사업소'!B18 -> 0 | G18: ='규정 읍면'!C18 -> 0 | H18: ='규정 읍면'!B18-'규정 읍면'!C18 -> 0
A19: 행정·농업 | B19: =SUM(C19:H19) -> 5 | C19: ='규정 본청'!B19 -> 1 | D19: ='규정 의회'!B19 -> 0 | E19: ='규정 직속'!B19 -> 0 | F19: ='규정 사업소'!B19 -> 0 | G19: ='규정 읍면'!C19 -> 0 | H19: ='규정 읍면'!B19-'규정 읍면'!C19 -> 4
A20: 행정·시설 | B20: =SUM(C20:H20) -> 4 | C20: ='규정 본청'!B20 -> 2 | D20: ='규정 의회'!B20 -> 0 | E20: ='규정 직속'!B20 -> 0 | F20: ='규정 사업소'!B20 -> 1 | G20: ='규정 읍면'!C20 -> 0 | H20: ='규정 읍면'!B20-'규정 읍면'!C20 -> 1
A21: 행정·농업연구관 | B21: =SUM(C21:H21) -> 1 | C21: ='규정 본청'!B21 -> 0 | D21: ='규정 의회'!B21 -> 0 | E21: ='규정 직속'!B21 -> 0 | F21: ='규정 사업소'!B21 -> 1 | G21: ='규정 읍면'!C21 -> 0 | H21: ='규정 읍면'!B21-'규정 읍면'!C21 -> 0
A22: 행정·농업·녹지 | B22: =SUM(C22:H22) -> 2 | C22: ='규정 본청'!B22 -> 1 | D22: ='규정 의회'!B22 -> 0 | E22: ='규정 직속'!B22 -> 0 | F22: ='규정 사업소'!B22 -> 0 | G22: ='규정 읍면'!C22 -> 0 | H22: ='규정 읍면'!B22-'규정 읍면'!C22 -> 1
A23: 행정·농업·시설 | B23: =SUM(C23:H23) -> 6 | C23: ='규정 본청'!B23 -> 0 | D23: ='규정 의회'!B23 -> 0 | E23: ='규정 직속'!B23 -> 0 | F23: ='규정 사업소'!B23 -> 0 | G23: ='규정 읍면'!C23 -> 1 | H23: ='규정 읍면'!B23-'규정 읍면'!C23 -> 5
A24: 행정·환경·시설 | B24: =SUM(C24:H24) -> 1 | C24: ='규정 본청'!B24 -> 1 | D24: ='규정 의회'!B24 -> 0 | E24: ='규정 직속'!B24 -> 0 | F24: ='규정 사업소'!B24 -> 0 | G24: ='규정 읍면'!C24 -> 0 | H24: ='규정 읍면'!B24-'규정 읍면'!C24 -> 0
A25: 6급 소계 | B25: =SUM(C25:H25) -> 137 | C25: =SUM(C26:C62) -> 67 | D25: =SUM(D26:D62) -> 1 | E25: =SUM(E26:E62) -> 13 | F25: =SUM(F26:F62) -> 5 | G25: =SUM(G26:G62) -> 7 | H25: =SUM(H26:H62) -> 44
A26: 행정 | B26: =SUM(C26:H26) -> 30 | C26: ='규정 본청'!B26 -> 25 | D26: ='규정 의회'!B26 -> 1 | E26: ='규정 직속'!B26 -> 0 | F26: ='규정 사업소'!B26 -> 4 | G26: ='규정 읍면'!C26 -> 0 | H26: ='규정 읍면'!B26-'규정 읍면'!C26 -> 0
A27: 세무 | B27: =SUM(C27:H27) -> 2 | C27: ='규정 본청'!B27 -> 2 | D27: ='규정 의회'!B27 -> 0 | E27: ='규정 직속'!B27 -> 0 | F27: ='규정 사업소'!B27 -> 0 | G27: ='규정 읍면'!C27 -> 0 | H27: ='규정 읍면'!B27-'규정 읍면'!C27 -> 0
A28: 사회복지 | B28: =SUM(C28:H28) -> 1 | C28: ='규정 본청'!B28 -> 0 | D28: ='규정 의회'!B28 -> 0 | E28: ='규정 직속'!B28 -> 0 | F28: ='규정 사업소'!B28 -> 0 | G28: ='규정 읍면'!C28 -> 1 | H28: ='규정 읍면'!B28-'규정 읍면'!C28 -> 0
A29: 전산 | B29: =SUM(C29:H29) -> 0 | C29: ='규정 본청'!B29 -> 0 | D29: ='규정 의회'!B29 -> 0 | E29: ='규정 직속'!B29 -> 0 | F29: ='규정 사업소'!B29 -> 0 | G29: ='규정 읍면'!C29 -> 0 | H29: ='규정 읍면'!B29-'규정 읍면'!C29 -> 0
A30: 농업 | B30: =SUM(C30:H30) -> 3 | C30: ='규정 본청'!B30 -> 3 | D30: ='규정 의회'!B30 -> 0 | E30: ='규정 직속'!B30 -> 0 | F30: ='규정 사업소'!B30 -> 0 | G30: ='규정 읍면'!C30 -> 0 | H30: ='규정 읍면'!B30-'규정 읍면'!C30 -> 0
A31: 녹지 | B31: =SUM(C31:H31) -> 2 | C31: ='규정 본청'!B31 -> 2 | D31: ='규정 의회'!B31 -> 0 | E31: ='규정 직속'!B31 -> 0 | F31: ='규정 사업소'!B31 -> 0 | G31: ='규정 읍면'!C31 -> 0 | H31: ='규정 읍면'!B31-'규정 읍면'!C31 -> 0
A32: 시설 | B32: =SUM(C32:H32) -> 6 | C32: ='규정 본청'!B32 -> 5 | D32: ='규정 의회'!B32 -> 0 | E32: ='규정 직속'!B32 -> 0 | F32: ='규정 사업소'!B32 -> 0 | G32: ='규정 읍면'!C32 -> 1 | H32: ='규정 읍면'!B32-'규정 읍면'!C32 -> 0
A33: 수의 | B33: =SUM(C33:H33) -> 0 | C33: ='규정 본청'!B33 -> 0 | D33: ='규정 의회'!B33 -> 0 | E33: ='규정 직속'!B33 -> 0 | F33: ='규정 사업소'!B33 -> 0 | G33: ='규정 읍면'!C33 -> 0 | H33: ='규정 읍면'!B33-'규정 읍면'!C33 -> 0
A34: 보건 | B34: =SUM(C34:H34) -> 1 | C34: ='규정 본청'!B34 -> 0 | D34: ='규정 의회'!B34 -> 0 | E34: ='규정 직속'!B34 -> 1 | F34: ='규정 사업소'!B34 -> 0 | G34: ='규정 읍면'!C34 -> 0 | H34: ='규정 읍면'!B34-'규정 읍면'!C34 -> 0
A35: 보건진료 | B35: =SUM(C35:H35) -> 5 | C35: ='규정 본청'!B35 -> 0 | D35: ='규정 의회'!B35 -> 0 | E35: ='규정 직속'!B35 -> 5 | F35: ='규정 사업소'!B35 -> 0 | G35: ='규정 읍면'!C35 -> 0 | H35: ='규정 읍면'!B35-'규정 읍면'!C35 -> 0
A36: 행정·세무 | B36: =SUM(C36:H36) -> 3 | C36: ='규정 본청'!B36 -> 2 | D36: ='규정 의회'!B36 -> 0 | E36: ='규정 직속'!B36 -> 0 | F36: ='규정 사업소'!B36 -> 0 | G36: ='규정 읍면'!C36 -> 1 | H36: ='규정 읍면'!B36-'규정 읍면'!C36 -> 0
A37: 행정·사회복지 | B37: =SUM(C37:H37) -> 2 | C37: ='규정 본청'!B37 -> 2 | D37: ='규정 의회'!B37 -> 0 | E37: ='규정 직속'!B37 -> 0 | F37: ='규정 사업소'!B37 -> 0 | G37: ='규정 읍면'!C37 -> 0 | H37: ='규정 읍면'!B37-'규정 읍면'!C37 -> 0
... A62: 행정·세무·복지·농업 | B62: =SUM(C62:H62) -> 2 | C62: ='규정 본청'!B62 -> 0 | D62: ='규정 의회'!B62 -> 0 | E62: ='규정 직속'!B62 -> 0 | F62: ='규정 사업소'!B62 -> 0 | G62: ='규정 읍면'!C62 -> 0 | H62: ='규정 읍면'!B62-'규정 읍면'!C62 -> 2
A63: 7급 소계 | B63: =SUM(C63:H63) -> 156 | C63: =SUM(C64:C89) -> 90 | D63: =SUM(D64:D89) -> 2 | E63: =SUM(E64:E89) -> 22 | F63: =SUM(F64:F89) -> 5 | G63: =SUM(G64:G89) -> 6 | H63: =SUM(H64:H89) -> 31
A64: 행정 | B64: =SUM(C64:H64) -> 38 | C64: ='규정 본청'!B64 -> 32 | D64: ='규정 의회'!B64 -> 2 | E64: ='규정 직속'!B64 -> 0 | F64: ='규정 사업소'!B64 -> 4 | G64: ='규정 읍면'!C64 -> 0 | H64: ='규정 읍면'!B64-'규정 읍면'!C64 -> 0
A65: 세무 | B65: =SUM(C65:H65) -> 4 | C65: ='규정 본청'!B65 -> 4 | D65: ='규정 의회'!B65 -> 0 | E65: ='규정 직속'!B65 -> 0 | F65: ='규정 사업소'!B65 -> 0 | G65: ='규정 읍면'!C65 -> 0 | H65: ='규정 읍면'!B65-'규정 읍면'!C65 -> 0
...

Sheet 정원조례
A1: 【별표3】 <개정전>
A2: 예천군 직급별 지방공무원 정원표(조례 제4조와 관련)
A4: 기관별 직급별 | B4: 총계 | C4: 본청 | D4: 의회 | E4: 직속 기관 | F4: 사업소 | G4: 읍 | H4: 면
A5: 총 계 | B5: =B6+B8+B14+B16+B18+B21 -> 619 | C5: =C6+C8+C14+C16+C18+C21 -> 276 | D5: =D6+D8+D14+D16+D18+D21 -> 10 | E5: =E6+E8+E14+E16+E18+E21 -> 107 | F5: =F6+F8+F14+F16+F18+F21 -> 30 | G5: =G6+G8+G14+G16+G18+G21 -> 28 | H5: =H6+H8+H14+H16+H18+H21 -> 168
A6: 정무직 계 | B6: =B7 -> 1 | C6: =C7 -> 1 | D6: =D7 -> 0 | E6: =E7 -> 0 | F6: =F7 -> 0 | G6: =G7 -> 0 | H6: =H7 -> 0
A7: 군 수 | B7: =SUM(C7:H7) -> 1 | C7: =정원규칙!C7 -> 1 | D7: =정원규칙!D7 -> 0 | E7: =정원규칙!E7 -> 0 | F7: =정원규칙!F7 -> 0 | G7: =정원규칙!G7 -> 0 | H7: =정원규칙!H7 -> 0
A8: 일반직 계 | B8: =SUM(B9:B13) -> 500 | C8: =SUM(C9:C13) -> 245 | D8: =SUM(D9:D13) -> 7 | E8: =SUM(E9:E13) -> 67 | F8: =SUM(F9:F13) -> 13 | G8: =SUM(G9:G13) -> 22 | H8: =SUM(H9:H13) -> 146
A9: 4급 | B9: =SUM(C9:H9) -> 1 | C9: =정원규칙!C9 -> 1 | D9: =정원규칙!D9 -> 0 | E9: =정원규칙!E9 -> 0 | F9: =정원규칙!F9 -> 0 | G9: =정원규칙!G9 -> 0 | H9: =정원규칙!H9 -> 0
A10: 4급 내지 5급 | B10: =SUM(C10:H10) -> 3 | C10: =정원규칙!C11 -> 2 | D10: =정원규칙!D11 -> 0 | E10: =정원규칙!E11 -> 1 | F10: =정원규칙!F11 -> 0 | G10: =정원규칙!G11 -> 0 | H10: =정원규칙!H11 -> 0
A11: 5급 | B11: =SUM(C11:H11) -> 28 | C11: =정원규칙!C15-정원규칙!C21 -> 12 | D11: =정원규칙!D15-정원규칙!D21 -> 3 | E11: =정원규칙!E15-정원규칙!E21 -> 0 | F11: =정원규칙!F15-정원규칙!F21 -> 1 | G11: =정원규칙!G15-정원규칙!G21 -> 1 | H11: =정원규칙!H15-정원규칙!H21 -> 11
A12: 5급 내지 연구관 | B12: =SUM(C12:H12) -> 1 | C12: =정원규칙!C21 -> 0 | D12: =정원규칙!D21 -> 0 | E12: =정원규칙!E21 -> 0 | F12: =정원규칙!F21 -> 1 | G12: =정원규칙!G21 -> 0 | H12: =정원규칙!H21 -> 0
A13: 6급 이하 | B13: =SUM(C13:H13) -> 467 | C13: =정원규칙!C25+정원규칙!C63+정원규칙!C90+정원규칙!C113 -> 230 | D13: =정원규칙!D25+정원규칙!D63+정원규칙!D90+정원규칙!D113 -> 4 | E13: =정원규칙!E25+정원규칙!E63+정원규칙!E90+정원규칙!E113 -> 66 | F13: =정원규칙!F25+정원규칙!F63+정원규칙!F90+정원규칙!F113 -> 11 | G13: =정원규칙!G25+정원규칙!G63+정원규칙!G90+정원규칙!G113 -> 21 | H13: =정원규칙!H25+정원규칙!H63+정원규칙!H90+정원규칙!H113 -> 135
A14: 별정직 계 | B14: =SUM(B15:B15) -> 1 | C14: =SUM(C15:C15) -> 0 | D14: =SUM(D15:D15) -> 0 | E14: =SUM(E15:E15) -> 1 | F14: =SUM(F15:F15) -> 0 | G14: =SUM(G15:G15) -> 0 | H14: =SUM(H15:H15) -> 0
A15: 6급상당 이하 | B15: =SUM(C15:H15) -> 1 | C15: =정원규칙!C125 -> 0 | D15: =정원규칙!D125 -> 0 | E15: =정원규칙!E125 -> 1 | F15: =정원규칙!F125 -> 0 | G15: =정원규칙!G125 -> 0 | H15: =정원규칙!H125 -> 0
A16: 연구직 계 | B16: =SUM(B17:B17) -> 6 | C16: =SUM(C17:C17) -> 2 | D16: =SUM(D17:D17) -> 0 | E16: =SUM(E17:E17) -> 0 | F16: =SUM(F17:F17) -> 4 | G16: =SUM(G17:G17) -> 0 | H16: =SUM(H17:H17) -> 0
A17: 연구사 | B17: =SUM(C17:H17) -> 6 | C17: =정원규칙!C129+정원규칙!C130 +정원규칙!C131 -> 2 | D17: =정원규칙!D129+정원규칙!D131 -> 0 | E17: =정원규칙!E129+정원규칙!E131 -> 0 | F17: =정원규칙!F129+정원규칙!F131 -> 4 | G17: =정원규칙!G129+정원규칙!G131 -> 0 | H17: =정원규칙!H129+정원규칙!H131 -> 0
A18: 지도직 계 | B18: =SUM(B19:B20) -> 31 | C18: =SUM(C19:C20) -> 0 | D18: =SUM(D19:D20) -> 0 | E18: =SUM(E19:E20) -> 30 | F18: =SUM(F19:F20) -> 1 | G18: =SUM(G19:G20) -> 0 | H18: =SUM(H19:H20) -> 0
A19: 지도관 | B19: =SUM(C19:H19) -> 3 | C19: =정원규칙!C133 -> 0 | D19: =정원규칙!D133 -> 0 | E19: =정원규칙!E133 -> 3 | F19: =정원규칙!F133 -> 0 | G19: =정원규칙!G133 -> 0 | H19: =정원규칙!H133 -> 0
A20: 지도사 | B20: =SUM(C20:H20) -> 28 | C20: =정원규칙!C134 -> 0 | D20: =정원규칙!D134 -> 0 | E20: =정원규칙!E134 -> 27 | F20: =정원규칙!F134 -> 1 | G20: =정원규칙!G134 -> 0 | H20: =정원규칙!H134 -> 0
A21: 기능직 계 | B21: =SUM(B22:B22) -> 80 | C21: =SUM(C22:C22) -> 28 | D21: =SUM(D22:D22) -> 3 | E21: =SUM(E22:E22) -> 9 | F21: =SUM(F22:F22) -> 12 | G21: =SUM(G22:G22) -> 6 | H21: =SUM(H22:H22) -> 22
A22: 기능 6급 이하 | B22: =SUM(C22:H22) -> 80 | C22: =정원규칙!C136+정원규칙!C141+정원규칙!C151+정원규칙!C163+정원규칙!C177 -> 28 | D22: =정원규칙!D136+정원규칙!D141+정원규칙!D151+정원규칙!D163+정원규칙!D177 -> 3 | E22: =정원규칙!E136+정원규칙!E141+정원규칙!E151+정원규칙!E163+정원규칙!E177 -> 9 | F22: =정원규칙!F136+정원규칙!F141+정원규칙!F151+정원규칙!F163+정원규칙!F177 -> 12 | G22: =정원규칙!G136+정원규칙!G141+정원규칙!G151+정원규칙!G163+정원규칙!G177 -> 6 | H22: =정원규칙!H136+정원규칙!H141+정원규칙!H151+정원규칙!H163+정원규칙!H177 -> 22
